BEGIN:VCALENDAR
VERSION:2.0
PRODID:-//UCLA Department of History - ECPv6.15.17.1//NONSGML v1.0//EN
CALSCALE:GREGORIAN
METHOD:PUBLISH
X-WR-CALNAME:UCLA Department of History
X-ORIGINAL-URL:https://history.ucla.edu
X-WR-CALDESC:Events for UCLA Department of History
REFRESH-INTERVAL;VALUE=DURATION:PT1H
X-Robots-Tag:noindex
X-PUBLISHED-TTL:PT1H
BEGIN:VTIMEZONE
TZID:America/Los_Angeles
BEGIN:DAYLIGHT
TZOFFSETFROM:-0800
TZOFFSETTO:-0700
TZNAME:PDT
DTSTART:20200308T100000
END:DAYLIGHT
BEGIN:STANDARD
TZOFFSETFROM:-0700
TZOFFSETTO:-0800
TZNAME:PST
DTSTART:20201101T090000
END:STANDARD
BEGIN:DAYLIGHT
TZOFFSETFROM:-0800
TZOFFSETTO:-0700
TZNAME:PDT
DTSTART:20210314T100000
END:DAYLIGHT
BEGIN:STANDARD
TZOFFSETFROM:-0700
TZOFFSETTO:-0800
TZNAME:PST
DTSTART:20211107T090000
END:STANDARD
BEGIN:DAYLIGHT
TZOFFSETFROM:-0800
TZOFFSETTO:-0700
TZNAME:PDT
DTSTART:20220313T100000
END:DAYLIGHT
BEGIN:STANDARD
TZOFFSETFROM:-0700
TZOFFSETTO:-0800
TZNAME:PST
DTSTART:20221106T090000
END:STANDARD
END:VTIMEZONE
BEGIN:VEVENT
DTSTART;TZID=America/Los_Angeles:20210204T123000
DTEND;TZID=America/Los_Angeles:20210204T140000
DTSTAMP:20260425T182821
CREATED:20211020T225253Z
LAST-MODIFIED:20230926T235219Z
UID:769-1612441800-1612447200@history.ucla.edu
SUMMARY:Sasha Turner\, "Negotiating Slavery and Motherhood on the Terrain of Feelings."
DESCRIPTION:This presentation centers on the story of Abba\, an enslaved woman who was the mother of an unusually large family in eighteenth century Jamaica. Abba had been pregnant thirteen times. She had ten live births and one still birth. We come to know Abba’s story through the diaries of Thomas Thistlewood\, notorious among scholars of slavery because of his practice of diarizing how he daily tortured the enslaved. In addition to her large family\, Abba stands out in the diaries because\, despite Thistlewood’s notoriety as a sadistic enslaver\, he whips Abba only three times in almost thirty years of claiming power over her life and body. By contrast\, Thistlewood was exceptionally generous to Abba providing her with well needed material goods to support her family and permitting her to perform spiritual rituals\, outlawed a felony\, to grieve the death of her children. Reading Abba’s life against the 18th Century burgeoning culture of sensibility\, including Thistlewood’s own displays of sympathy and grief to white community members\, this discussion explores Abba’s deployment of feelings in negotiating her condition. How did Abba’s displays of feeling mirror Thistlewood’s\, and what did Abba seek to gain by consistently exhibiting feelings in Thistlewood presence? \nRSVP here
URL:https://history.ucla.edu/event/sasha-turner-negotiating-slavery-and-motherhood-on-the-terrain-of-feelings/
LOCATION:Zoom
CATEGORIES:Atlantic History Lecture Series
ATTACH;FMTTYPE=image/jpeg:https://history.ucla.edu/wp-content/uploads/2021/10/atl-flyer-turner-page-001-Yfc6zp.tmp_.jpg
END:VEVENT
END:VCALENDAR