BEGIN:VCALENDAR
VERSION:2.0
PRODID:-//UCLA Department of History - ECPv6.15.17.1//NONSGML v1.0//EN
CALSCALE:GREGORIAN
METHOD:PUBLISH
X-WR-CALNAME:UCLA Department of History
X-ORIGINAL-URL:https://history.ucla.edu
X-WR-CALDESC:Events for UCLA Department of History
REFRESH-INTERVAL;VALUE=DURATION:PT1H
X-Robots-Tag:noindex
X-PUBLISHED-TTL:PT1H
BEGIN:VTIMEZONE
TZID:America/Los_Angeles
BEGIN:DAYLIGHT
TZOFFSETFROM:-0800
TZOFFSETTO:-0700
TZNAME:PDT
DTSTART:20200308T100000
END:DAYLIGHT
BEGIN:STANDARD
TZOFFSETFROM:-0700
TZOFFSETTO:-0800
TZNAME:PST
DTSTART:20201101T090000
END:STANDARD
BEGIN:DAYLIGHT
TZOFFSETFROM:-0800
TZOFFSETTO:-0700
TZNAME:PDT
DTSTART:20210314T100000
END:DAYLIGHT
BEGIN:STANDARD
TZOFFSETFROM:-0700
TZOFFSETTO:-0800
TZNAME:PST
DTSTART:20211107T090000
END:STANDARD
BEGIN:DAYLIGHT
TZOFFSETFROM:-0800
TZOFFSETTO:-0700
TZNAME:PDT
DTSTART:20220313T100000
END:DAYLIGHT
BEGIN:STANDARD
TZOFFSETFROM:-0700
TZOFFSETTO:-0800
TZNAME:PST
DTSTART:20221106T090000
END:STANDARD
END:VTIMEZONE
BEGIN:VEVENT
DTSTART;TZID=America/Los_Angeles:20210408T100000
DTEND;TZID=America/Los_Angeles:20210408T150000
DTSTAMP:20260425T182837
CREATED:20211021T033641Z
LAST-MODIFIED:20230926T224209Z
UID:1398-1617876000-1617894000@history.ucla.edu
SUMMARY:ucLADINO Symposium\, "Ottoman Legacies\, Émigre Culture\, and Linguistic Crossroads" - Day 2
DESCRIPTION:The theme of “Ottoman Legacies\, Émigre Culture\, and Linguistic Crossroads” will lay emphasis on heritage\, culture\, and communication related to Sephardic Jews. The music-filled program–all organized by graduate students–features panels on Ladino Linguistics\, History and Memory\, and Networks\, a keynote address by Dr. Olga Borovaya (Stanford)\, as well as two concerts. \nPlease click here to register: https://bit.ly/ucladino
URL:https://history.ucla.edu/event/ucladino-symposium-ottoman-legacies-emigre-culture-and-linguistic-crossroads-day-2/
LOCATION:Zoom
ATTACH;FMTTYPE=image/jpeg:https://history.ucla.edu/wp-content/uploads/2021/10/ucladino_2021_flyer_0-jcIAdt.tmp_.jpg
END:VEVENT
END:VCALENDAR