BEGIN:VCALENDAR
VERSION:2.0
PRODID:-//UCLA Department of History - ECPv6.15.17.1//NONSGML v1.0//EN
CALSCALE:GREGORIAN
METHOD:PUBLISH
X-ORIGINAL-URL:https://history.ucla.edu
X-WR-CALDESC:Events for UCLA Department of History
REFRESH-INTERVAL;VALUE=DURATION:PT1H
X-Robots-Tag:noindex
X-PUBLISHED-TTL:PT1H
BEGIN:VTIMEZONE
TZID:America/Los_Angeles
BEGIN:DAYLIGHT
TZOFFSETFROM:-0800
TZOFFSETTO:-0700
TZNAME:PDT
DTSTART:20200308T100000
END:DAYLIGHT
BEGIN:STANDARD
TZOFFSETFROM:-0700
TZOFFSETTO:-0800
TZNAME:PST
DTSTART:20201101T090000
END:STANDARD
BEGIN:DAYLIGHT
TZOFFSETFROM:-0800
TZOFFSETTO:-0700
TZNAME:PDT
DTSTART:20210314T100000
END:DAYLIGHT
BEGIN:STANDARD
TZOFFSETFROM:-0700
TZOFFSETTO:-0800
TZNAME:PST
DTSTART:20211107T090000
END:STANDARD
BEGIN:DAYLIGHT
TZOFFSETFROM:-0800
TZOFFSETTO:-0700
TZNAME:PDT
DTSTART:20220313T100000
END:DAYLIGHT
BEGIN:STANDARD
TZOFFSETFROM:-0700
TZOFFSETTO:-0800
TZNAME:PST
DTSTART:20221106T090000
END:STANDARD
END:VTIMEZONE
BEGIN:VEVENT
DTSTART;TZID=America/Los_Angeles:20210419T160000
DTEND;TZID=America/Los_Angeles:20210419T170000
DTSTAMP:20260425T200345
CREATED:20211021T033626Z
LAST-MODIFIED:20230926T221556Z
UID:1393-1618848000-1618851600@history.ucla.edu
SUMMARY:Gideon Manning\, “False Images Do Not Lie: Medicine\, Editors’ Decisions\, and the Case of René Descartes’s Treatise on Man.”
DESCRIPTION:Spring 2021 Colloquium \nApril 19 | 4PM – 5PM PST \nGideon Manning (Cedars-Sinai) \n“False Images Do Not Lie: Medicine\, Editors’ Decisions\, and the Case of René Descartes’s Treatise on Man” \nHow to discuss the role of illustrations in the early modern period in a way that is responsive to the concepts and vocabulary of the time remains elusive. In this talk\, which builds from the medical tradition outward\, I will suggest that the technical language of historia-actio-usus (history-action-use)\, which originates in Aristotle and Galen and is then standardized among anatomists in the sixteenth and seventeenth century\, provides us what has been missing. I will specifically consider the case of René Descartes’s posthumously published Treatise on Man\, which appeared in Latin translation in 1662 and then in French in 1664. The original manuscript of the Treatise contained perhaps one or two images\, but the text called for many more. Accordingly\, the editors had to make numerous decisions. I will demonstrate how the language of historia-actio-usus\, which Descartes also used\, allows us to better understand the editors’ decisions and the many differences between the illustrations in the 1662 and 1664 editions of same text. \n Zoom RSVP Link
URL:https://history.ucla.edu/event/gideon-manning-false-images-do-not-lie-medicine-editors-decisions-and-the-case-of-rene-descartess-treatise-on-man/
LOCATION:Zoom
CATEGORIES:History of Science Colloquium
ATTACH;FMTTYPE=image/png:https://history.ucla.edu/wp-content/uploads/2021/10/history_of_science_5-qsYo9G.tmp_.png
END:VEVENT
END:VCALENDAR