BEGIN:VCALENDAR
VERSION:2.0
PRODID:-//UCLA Department of History - ECPv6.15.17.1//NONSGML v1.0//EN
CALSCALE:GREGORIAN
METHOD:PUBLISH
X-ORIGINAL-URL:https://history.ucla.edu
X-WR-CALDESC:Events for UCLA Department of History
REFRESH-INTERVAL;VALUE=DURATION:PT1H
X-Robots-Tag:noindex
X-PUBLISHED-TTL:PT1H
BEGIN:VTIMEZONE
TZID:America/Los_Angeles
BEGIN:DAYLIGHT
TZOFFSETFROM:-0800
TZOFFSETTO:-0700
TZNAME:PDT
DTSTART:20200308T100000
END:DAYLIGHT
BEGIN:STANDARD
TZOFFSETFROM:-0700
TZOFFSETTO:-0800
TZNAME:PST
DTSTART:20201101T090000
END:STANDARD
BEGIN:DAYLIGHT
TZOFFSETFROM:-0800
TZOFFSETTO:-0700
TZNAME:PDT
DTSTART:20210314T100000
END:DAYLIGHT
BEGIN:STANDARD
TZOFFSETFROM:-0700
TZOFFSETTO:-0800
TZNAME:PST
DTSTART:20211107T090000
END:STANDARD
BEGIN:DAYLIGHT
TZOFFSETFROM:-0800
TZOFFSETTO:-0700
TZNAME:PDT
DTSTART:20220313T100000
END:DAYLIGHT
BEGIN:STANDARD
TZOFFSETFROM:-0700
TZOFFSETTO:-0800
TZNAME:PST
DTSTART:20221106T090000
END:STANDARD
END:VTIMEZONE
BEGIN:VEVENT
DTSTART;TZID=America/Los_Angeles:20210421T110000
DTEND;TZID=America/Los_Angeles:20210421T120000
DTSTAMP:20260425T133317
CREATED:20211020T225439Z
LAST-MODIFIED:20230926T221358Z
UID:805-1619002800-1619006400@history.ucla.edu
SUMMARY:Dominique Kircher Reill\, "Fiume Crisis: Life in the Wake of the Habsburg Empire"
DESCRIPTION:This is the first of a series of book talks hosted by Brian Griffith that\, in one way or another\, impinge upon the history of Europe’s interwar crisis. These book talks will be open to members both of UCLA’s campus community and the general public\, and pre-registration is required. \nDominique Kircher Reill\, Fiume Crisis: Life in the Wake of the Habsburg Empire (Harvard\, 2020) \n“The Fiume Crisis recasts what we know about the birth of fascism\, the rise of nationalism\, and the fall of empire after World War I by telling the story of the three-year period when the Adriatic city of Fiume (today Rijeka\, in Croatia) generated an international crisis. In 1919 the multicultural former Habsburg city was occupied by the paramilitary forces of the flamboyant poet-soldier Gabriele D’Annunzio\, who aimed to annex the territory to Italy and became an inspiration to Mussolini. Many local Italians supported the effort\, nurturing a standard tale of nationalist fanaticism. However\, Dominique Kirchner Reill shows that practical realities\, not nationalist ideals\, were in the driver’s seat. Support for annexation was largely a result of the daily frustrations of life in a “ghost state” set adrift by the fall of the empire. D’Annunzio’s ideology and proto-fascist charisma notwithstanding\, what the people of Fiume wanted was prosperity\, which they associated with the autonomy they had enjoyed under Habsburg sovereignty. In these twilight years between the world that was and the world that would be\, many across the former empire sought to restore the familiar forms of governance that once supported them. To the extent that they turned to nation-states\, it was not out of zeal for nationalist self-determination but in the hope that these states would restore the benefits of cosmopolitan empire. Against the too-smooth narrative of postwar nationalism\, The Fiume Crisis demonstrates the endurance of the imperial imagination and carves out an essential place for history from below.” \nZoom Registration Portal: https://ucla.zoom.us/meeting/register/tJwkf-qqpj4oHNfm0GbVXk0y6JrZxt8smPvs
URL:https://history.ucla.edu/event/dominique-kircher-reill-fiume-crisis-life-in-the-wake-of-the-habsburg-empire/
LOCATION:Zoom RSVP
CATEGORIES:Book Talk
ATTACH;FMTTYPE=image/jpeg:https://history.ucla.edu/wp-content/uploads/2021/10/reill_fiume_crisis_0-scaled.jpg
END:VEVENT
END:VCALENDAR