BEGIN:VCALENDAR
VERSION:2.0
PRODID:-//UCLA Department of History - ECPv6.15.17.1//NONSGML v1.0//EN
CALSCALE:GREGORIAN
METHOD:PUBLISH
X-WR-CALNAME:UCLA Department of History
X-ORIGINAL-URL:https://history.ucla.edu
X-WR-CALDESC:Events for UCLA Department of History
REFRESH-INTERVAL;VALUE=DURATION:PT1H
X-Robots-Tag:noindex
X-PUBLISHED-TTL:PT1H
BEGIN:VTIMEZONE
TZID:America/Los_Angeles
BEGIN:DAYLIGHT
TZOFFSETFROM:-0800
TZOFFSETTO:-0700
TZNAME:PDT
DTSTART:20200308T100000
END:DAYLIGHT
BEGIN:STANDARD
TZOFFSETFROM:-0700
TZOFFSETTO:-0800
TZNAME:PST
DTSTART:20201101T090000
END:STANDARD
BEGIN:DAYLIGHT
TZOFFSETFROM:-0800
TZOFFSETTO:-0700
TZNAME:PDT
DTSTART:20210314T100000
END:DAYLIGHT
BEGIN:STANDARD
TZOFFSETFROM:-0700
TZOFFSETTO:-0800
TZNAME:PST
DTSTART:20211107T090000
END:STANDARD
BEGIN:DAYLIGHT
TZOFFSETFROM:-0800
TZOFFSETTO:-0700
TZNAME:PDT
DTSTART:20220313T100000
END:DAYLIGHT
BEGIN:STANDARD
TZOFFSETFROM:-0700
TZOFFSETTO:-0800
TZNAME:PST
DTSTART:20221106T090000
END:STANDARD
END:VTIMEZONE
BEGIN:VEVENT
DTSTART;TZID=America/Los_Angeles:20210426T180000
DTEND;TZID=America/Los_Angeles:20210426T180000
DTSTAMP:20260425T200523
CREATED:20211021T033656Z
LAST-MODIFIED:20230926T220400Z
UID:1400-1619460000-1619460000@history.ucla.edu
SUMMARY:Y. Yvon Wang\, “Sexology Sells: Licentiousness & Sexual Science on fin-de-siècle Beijing Markets”
DESCRIPTION:Y. Yvon Wang\, Associate Professor of History at the University of Toronto\, will be giving a talk entitled “Sexology Sells: Licentiousness & Sexual Science on fin-de-siècle Beijing Markets.” \n\n\nDate & Time: April 26\, 6:00 pm PST\, in conjunction with Andrea S. Goldman’s History 282B seminar\, Gender and Sexuality in Late Imperial and Modern China. \n\n\nParticipants are encouraged but not required to read sections from Wang’s book Reinventing Licentiousness: Pornography and Modern China (Ithaca: Cornell University Press\, 2021) and other readings which will be made available to participants who RSVP to the meeting. Please RSVP no later than April 19th\, by sending an email to rmartnz165@g.ucla.edu. The zoom link will also be made available to students who RSVP.
URL:https://history.ucla.edu/event/y-yvon-wang-sexology-sells-licentiousness-sexual-science-on-fin-de-siecle-beijing-markets/
LOCATION:Zoom RSVP
CATEGORIES:History of Women,Men and Sexuality Lecture Series
END:VEVENT
END:VCALENDAR