BEGIN:VCALENDAR
VERSION:2.0
PRODID:-//UCLA Department of History - ECPv6.15.17.1//NONSGML v1.0//EN
CALSCALE:GREGORIAN
METHOD:PUBLISH
X-WR-CALNAME:UCLA Department of History
X-ORIGINAL-URL:https://history.ucla.edu
X-WR-CALDESC:Events for UCLA Department of History
REFRESH-INTERVAL;VALUE=DURATION:PT1H
X-Robots-Tag:noindex
X-PUBLISHED-TTL:PT1H
BEGIN:VTIMEZONE
TZID:America/Los_Angeles
BEGIN:DAYLIGHT
TZOFFSETFROM:-0800
TZOFFSETTO:-0700
TZNAME:PDT
DTSTART:20200308T100000
END:DAYLIGHT
BEGIN:STANDARD
TZOFFSETFROM:-0700
TZOFFSETTO:-0800
TZNAME:PST
DTSTART:20201101T090000
END:STANDARD
BEGIN:DAYLIGHT
TZOFFSETFROM:-0800
TZOFFSETTO:-0700
TZNAME:PDT
DTSTART:20210314T100000
END:DAYLIGHT
BEGIN:STANDARD
TZOFFSETFROM:-0700
TZOFFSETTO:-0800
TZNAME:PST
DTSTART:20211107T090000
END:STANDARD
BEGIN:DAYLIGHT
TZOFFSETFROM:-0800
TZOFFSETTO:-0700
TZNAME:PDT
DTSTART:20220313T100000
END:DAYLIGHT
BEGIN:STANDARD
TZOFFSETFROM:-0700
TZOFFSETTO:-0800
TZNAME:PST
DTSTART:20221106T090000
END:STANDARD
END:VTIMEZONE
BEGIN:VEVENT
DTSTART;TZID=America/Los_Angeles:20210519T120000
DTEND;TZID=America/Los_Angeles:20210519T130000
DTSTAMP:20260425T200204
CREATED:20211020T225439Z
LAST-MODIFIED:20230926T215330Z
UID:807-1621425600-1621429200@history.ucla.edu
SUMMARY:Claudio Fogu\, "The Fishing Net and the Spider Web: Mediterranean Imaginaries and the Making of Italians"
DESCRIPTION:This is the third of a series of book talks hosted by Brian Griffith that\, in one way or another\, impinge upon the history of Europe’s interwar crisis. These book talks will be open to members both of UCLA’s campus community and the general public\, and pre-registration is required. \nClaudio Fogu\, The Fishing Net and the Spider Web: Mediterranean Imaginaries and the Making of Italians (Palgrave\, 2021) \n“This book explores the role of Mediterranean imaginaries in one of the preeminent tropes of Italian history: the formation or ‘making of’ Italians. While previous scholarship on the construction of Italian identity has often focused too narrowly on the territorial notion of the nation-state\, and over-identified Italy with its capital\, Rome\, this book highlights the importance of the Mediterranean Sea to the development of Italian collective imaginaries. From this perspective\, this book re-interprets key historical processes and actors in the history of modern Italy\, and thereby challenges mainstream interpretations of Italian collective identity as weak or incomplete. Ultimately\, it argues that Mediterranean imaginaries acted as counterweights to the solidification of a ‘national’ Italian identity\, and still constitute alternative but equally viable modes of collective belonging.” \nZoom Registration Portal: https://ucla.zoom.us/meeting/register/tJAoc-Gqpj4uHNP95cX92KF0uyOSkEM84Tcw \n 
URL:https://history.ucla.edu/event/claudio-fogu-the-fishing-net-and-the-spider-web-mediterranean-imaginaries-and-the-making-of-italians/
LOCATION:Zoom
CATEGORIES:Book Talk
ATTACH;FMTTYPE=image/jpeg:https://history.ucla.edu/wp-content/uploads/2021/10/fogu_fishing_net_spider_web-scaled.jpeg
END:VEVENT
END:VCALENDAR