BEGIN:VCALENDAR
VERSION:2.0
PRODID:-//UCLA Department of History - ECPv6.15.17.1//NONSGML v1.0//EN
CALSCALE:GREGORIAN
METHOD:PUBLISH
X-ORIGINAL-URL:https://history.ucla.edu
X-WR-CALDESC:Events for UCLA Department of History
REFRESH-INTERVAL;VALUE=DURATION:PT1H
X-Robots-Tag:noindex
X-PUBLISHED-TTL:PT1H
BEGIN:VTIMEZONE
TZID:America/Los_Angeles
BEGIN:DAYLIGHT
TZOFFSETFROM:-0800
TZOFFSETTO:-0700
TZNAME:PDT
DTSTART:20200308T100000
END:DAYLIGHT
BEGIN:STANDARD
TZOFFSETFROM:-0700
TZOFFSETTO:-0800
TZNAME:PST
DTSTART:20201101T090000
END:STANDARD
BEGIN:DAYLIGHT
TZOFFSETFROM:-0800
TZOFFSETTO:-0700
TZNAME:PDT
DTSTART:20210314T100000
END:DAYLIGHT
BEGIN:STANDARD
TZOFFSETFROM:-0700
TZOFFSETTO:-0800
TZNAME:PST
DTSTART:20211107T090000
END:STANDARD
BEGIN:DAYLIGHT
TZOFFSETFROM:-0800
TZOFFSETTO:-0700
TZNAME:PDT
DTSTART:20220313T100000
END:DAYLIGHT
BEGIN:STANDARD
TZOFFSETFROM:-0700
TZOFFSETTO:-0800
TZNAME:PST
DTSTART:20221106T090000
END:STANDARD
END:VTIMEZONE
BEGIN:VEVENT
DTSTART;TZID=America/Los_Angeles:20210520T123000
DTEND;TZID=America/Los_Angeles:20210520T140000
DTSTAMP:20260425T200335
CREATED:20211020T225454Z
LAST-MODIFIED:20230926T213452Z
UID:810-1621513800-1621519200@history.ucla.edu
SUMMARY:Devin Leigh\, "The Origins of an Archive: Enslavers and the Geopolitics of Knowledge Production in an Age of Abolition"
DESCRIPTION:Click here to register for the event.
URL:https://history.ucla.edu/event/devin-leigh-the-origins-of-an-archive-enslavers-and-the-geopolitics-of-knowledge-production-in-an-age-of-abolition/
LOCATION:Zoom
CATEGORIES:Atlantic History Lecture Series
ATTACH;FMTTYPE=image/png:https://history.ucla.edu/wp-content/uploads/2021/10/atl-flyer-leigh-9PEl7P.tmp_.png
END:VEVENT
END:VCALENDAR