BEGIN:VCALENDAR
VERSION:2.0
PRODID:-//UCLA Department of History - ECPv6.15.17.1//NONSGML v1.0//EN
CALSCALE:GREGORIAN
METHOD:PUBLISH
X-ORIGINAL-URL:https://history.ucla.edu
X-WR-CALDESC:Events for UCLA Department of History
REFRESH-INTERVAL;VALUE=DURATION:PT1H
X-Robots-Tag:noindex
X-PUBLISHED-TTL:PT1H
BEGIN:VTIMEZONE
TZID:America/Los_Angeles
BEGIN:DAYLIGHT
TZOFFSETFROM:-0800
TZOFFSETTO:-0700
TZNAME:PDT
DTSTART:20200308T100000
END:DAYLIGHT
BEGIN:STANDARD
TZOFFSETFROM:-0700
TZOFFSETTO:-0800
TZNAME:PST
DTSTART:20201101T090000
END:STANDARD
BEGIN:DAYLIGHT
TZOFFSETFROM:-0800
TZOFFSETTO:-0700
TZNAME:PDT
DTSTART:20210314T100000
END:DAYLIGHT
BEGIN:STANDARD
TZOFFSETFROM:-0700
TZOFFSETTO:-0800
TZNAME:PST
DTSTART:20211107T090000
END:STANDARD
BEGIN:DAYLIGHT
TZOFFSETFROM:-0800
TZOFFSETTO:-0700
TZNAME:PDT
DTSTART:20220313T100000
END:DAYLIGHT
BEGIN:STANDARD
TZOFFSETFROM:-0700
TZOFFSETTO:-0800
TZNAME:PST
DTSTART:20221106T090000
END:STANDARD
END:VTIMEZONE
BEGIN:VEVENT
DTSTART;TZID=America/Los_Angeles:20211014T123000
DTEND;TZID=America/Los_Angeles:20211014T140000
DTSTAMP:20260422T150454
CREATED:20211021T033741Z
LAST-MODIFIED:20230926T212334Z
UID:1418-1634214600-1634220000@history.ucla.edu
SUMMARY:Degenhart Brown\, “‘Spiritscapes’ as ‘Atlantic Modernities’: Examining the Ritual Pathways of Spirit Possession and ‘Fetish’ Objects in West Africa.”
DESCRIPTION:In this presentation I explore how the dense vectors of material culture and spirit possession established in the crucible of the modern era continue to inform the decisions of millions of west Africans as they navigate everyday realities at home and abroad. In the first half of this talk\, I explore emerging themes in “fetish modernity” theory to demonstrate how\, as mediators of modern history\, “fetish” objects\, through their own semantic and epistemological ambivalence\, have changed the ways in which scholars interpret historical conventions. In the second half\, I look at some examples of the confluence of possession rituals and slavery discourse across contemporary west Africa to illustrate how the relationships between northern and southern “spirits\,” resulting from hinterland slave raids\, inform local interpretations of the ongoing legacies of trans-Atlantic slavery. I conclude by engaging the work of Charles Piot to demonstrate how power objects and ritual acts of possession are in themselves “alternative modernities” that have remained crucial ontological technologies in west Africa due to their capacity to efface national and international efforts to define and control west African lifeworlds. \nZoom RSVP
URL:https://history.ucla.edu/event/degenhart-brown-spiritscapes-as-atlantic-modernities-examining-the-ritual-pathways-of-spirit-possession-and-fetish-objects-in-west-afri/
LOCATION:Zoom RSVP
CATEGORIES:Atlantic History Lecture Series,Events
ATTACH;FMTTYPE=image/jpeg:https://history.ucla.edu/wp-content/uploads/2021/10/atl-flyer-brown-scaled.jpeg
END:VEVENT
END:VCALENDAR