BEGIN:VCALENDAR
VERSION:2.0
PRODID:-//UCLA Department of History - ECPv6.15.17.1//NONSGML v1.0//EN
CALSCALE:GREGORIAN
METHOD:PUBLISH
X-ORIGINAL-URL:https://history.ucla.edu
X-WR-CALDESC:Events for UCLA Department of History
REFRESH-INTERVAL;VALUE=DURATION:PT1H
X-Robots-Tag:noindex
X-PUBLISHED-TTL:PT1H
BEGIN:VTIMEZONE
TZID:America/Los_Angeles
BEGIN:DAYLIGHT
TZOFFSETFROM:-0800
TZOFFSETTO:-0700
TZNAME:PDT
DTSTART:20200308T100000
END:DAYLIGHT
BEGIN:STANDARD
TZOFFSETFROM:-0700
TZOFFSETTO:-0800
TZNAME:PST
DTSTART:20201101T090000
END:STANDARD
BEGIN:DAYLIGHT
TZOFFSETFROM:-0800
TZOFFSETTO:-0700
TZNAME:PDT
DTSTART:20210314T100000
END:DAYLIGHT
BEGIN:STANDARD
TZOFFSETFROM:-0700
TZOFFSETTO:-0800
TZNAME:PST
DTSTART:20211107T090000
END:STANDARD
BEGIN:DAYLIGHT
TZOFFSETFROM:-0800
TZOFFSETTO:-0700
TZNAME:PDT
DTSTART:20220313T100000
END:DAYLIGHT
BEGIN:STANDARD
TZOFFSETFROM:-0700
TZOFFSETTO:-0800
TZNAME:PST
DTSTART:20221106T090000
END:STANDARD
END:VTIMEZONE
BEGIN:VEVENT
DTSTART;TZID=America/Los_Angeles:20211018T170000
DTEND;TZID=America/Los_Angeles:20211018T180000
DTSTAMP:20260422T150450
CREATED:20211021T033741Z
LAST-MODIFIED:20230922T213157Z
UID:1421-1634576400-1634580000@history.ucla.edu
SUMMARY:Mario Biagioli\, "From Anti Science to Science Mimicry: Inventing Ethics in Trump's EPA."
DESCRIPTION:October 18\, 5 pm Mario Biagioli (UCLA Law and Information Studies) \n(please note the later time) \nThis paper moves from the recent findings of agnotologists (like the book Merchants of Doubt) about the post-WWII strategy by tobacco and oil companies to cast doubt about the scientific evidence concerning\, respectively\, the risks of tobacco smoking and the existence of global warming. I argue that a new chapter of that strategy book was recently articulated in Trump’s EPA. This is a strategy that does not hinge on the production of doubt about the content of scientific knowledge but rather targets and transforms some of the key ethical norms of science (openness\, transparency\, and impartiality)\, effectively turning them against themselves. \n  \nFor remote participants: \nPlease click here to register and receive a Zoom link \n  \nFor those joining us on campus\, RSVP and symptom monitoring is required. Please be prepared to show your clearance status when entering the seminar room. \nPlease RSVP using this form if you will be attending in person \n  \nFor visitors coming from other institutions\, please remember that UCLA has a vaccine mandate and that everyone coming to campus needs to fill out the daily symptom monitoring form which can be found here: \nhttps://uclasurveys.co1.qualtrics.com/jfe/form/SV_3qRLtouCYKzBbH7
URL:https://history.ucla.edu/event/mario-biagioli-from-anti-science-to-science-mimicry-inventing-ethics-in-trumps-epa/
LOCATION:Zoom RSVP
CATEGORIES:Atlantic History Lecture Series
END:VEVENT
END:VCALENDAR