BEGIN:VCALENDAR
VERSION:2.0
PRODID:-//UCLA Department of History - ECPv6.15.17.1//NONSGML v1.0//EN
CALSCALE:GREGORIAN
METHOD:PUBLISH
X-ORIGINAL-URL:https://history.ucla.edu
X-WR-CALDESC:Events for UCLA Department of History
REFRESH-INTERVAL;VALUE=DURATION:PT1H
X-Robots-Tag:noindex
X-PUBLISHED-TTL:PT1H
BEGIN:VTIMEZONE
TZID:America/Los_Angeles
BEGIN:DAYLIGHT
TZOFFSETFROM:-0800
TZOFFSETTO:-0700
TZNAME:PDT
DTSTART:20200308T100000
END:DAYLIGHT
BEGIN:STANDARD
TZOFFSETFROM:-0700
TZOFFSETTO:-0800
TZNAME:PST
DTSTART:20201101T090000
END:STANDARD
BEGIN:DAYLIGHT
TZOFFSETFROM:-0800
TZOFFSETTO:-0700
TZNAME:PDT
DTSTART:20210314T100000
END:DAYLIGHT
BEGIN:STANDARD
TZOFFSETFROM:-0700
TZOFFSETTO:-0800
TZNAME:PST
DTSTART:20211107T090000
END:STANDARD
BEGIN:DAYLIGHT
TZOFFSETFROM:-0800
TZOFFSETTO:-0700
TZNAME:PDT
DTSTART:20220313T100000
END:DAYLIGHT
BEGIN:STANDARD
TZOFFSETFROM:-0700
TZOFFSETTO:-0800
TZNAME:PST
DTSTART:20221106T090000
END:STANDARD
END:VTIMEZONE
BEGIN:VEVENT
DTSTART;TZID=America/Los_Angeles:20211101T160000
DTEND;TZID=America/Los_Angeles:20211101T170000
DTSTAMP:20260422T092713
CREATED:20211021T033741Z
LAST-MODIFIED:20230922T213541Z
UID:1422-1635782400-1635786000@history.ucla.edu
SUMMARY:Chris Willoughby\, "Collected without Consent: Imperialism and Enslavement in Harvard’s Medical Museum."
DESCRIPTION:Nov 1 Chris Willoughby (Huntington Library) \n“Collected without Consent: Imperialism and Enslavement in Harvard’s Medical Museum.” \nCo-sponsored with the Atlantic field \n  \nIn 1847\, upon his retirement\, John Collins Warren gave his entire anatomical collection to Harvard’s medical school\, including a  collection of racial skulls that would grow to include more than 150 objects. In this presentation\, I will specifically analyze how skulls from the Black Atlantic were collected and dubbed “African\,” attempting to erase their individual and cultural identities in favor of their  simple racialization. Specifically\, I will examine the story of two skulls of African descendants\, an unnamed leader from the 1835 Muslim Uprising in Bahia and another of Sturmann\, a Khoe man from Little Namaqua Land who committed suicide in Boston in 1860 while a living exhibit. In telling their stories\, I have two goals. First\, I will posit a method for writing the history of racist museum exhibitions that does not continue the silencing of marginalized peoples displayed in those exhibits. Second\, I argue that medical schools were intimately connected to the violence of slavery and empire. Through giving attention to the experiences of the skulls’ living antecedents though\, I show that hidden in these records are histories of rebellion\, politics\, and survival in the age of empire. \n  \nFor remote participants: \nPlease click here to register and receive a Zoom link \n  \nFor those joining us on campus\, RSVP and symptom monitoring is required. Please be prepared to show your clearance status when entering the seminar room. \nPlease RSVP using this form if you will be attending in person \n  \nFor visitors coming from other institutions\, please remember that UCLA has a vaccine mandate and that everyone coming to campus needs to fill out the daily symptom monitoring form which can be found here: \nhttps://uclasurveys.co1.qualtrics.com/jfe/form/SV_3qRLtouCYKzBbH7
URL:https://history.ucla.edu/event/chris-willoughby-collected-without-consent-imperialism-and-enslavement-in-harvards-medical-museum/
LOCATION:Zoom RSVP
CATEGORIES:Atlantic History Lecture Series
END:VEVENT
END:VCALENDAR