BEGIN:VCALENDAR
VERSION:2.0
PRODID:-//UCLA Department of History - ECPv6.15.17.1//NONSGML v1.0//EN
CALSCALE:GREGORIAN
METHOD:PUBLISH
X-WR-CALNAME:UCLA Department of History
X-ORIGINAL-URL:https://history.ucla.edu
X-WR-CALDESC:Events for UCLA Department of History
REFRESH-INTERVAL;VALUE=DURATION:PT1H
X-Robots-Tag:noindex
X-PUBLISHED-TTL:PT1H
BEGIN:VTIMEZONE
TZID:America/Los_Angeles
BEGIN:DAYLIGHT
TZOFFSETFROM:-0800
TZOFFSETTO:-0700
TZNAME:PDT
DTSTART:20200308T100000
END:DAYLIGHT
BEGIN:STANDARD
TZOFFSETFROM:-0700
TZOFFSETTO:-0800
TZNAME:PST
DTSTART:20201101T090000
END:STANDARD
BEGIN:DAYLIGHT
TZOFFSETFROM:-0800
TZOFFSETTO:-0700
TZNAME:PDT
DTSTART:20210314T100000
END:DAYLIGHT
BEGIN:STANDARD
TZOFFSETFROM:-0700
TZOFFSETTO:-0800
TZNAME:PST
DTSTART:20211107T090000
END:STANDARD
BEGIN:DAYLIGHT
TZOFFSETFROM:-0800
TZOFFSETTO:-0700
TZNAME:PDT
DTSTART:20220313T100000
END:DAYLIGHT
BEGIN:STANDARD
TZOFFSETFROM:-0700
TZOFFSETTO:-0800
TZNAME:PST
DTSTART:20221106T090000
END:STANDARD
END:VTIMEZONE
BEGIN:VEVENT
DTSTART;TZID=America/Los_Angeles:20211129T160000
DTEND;TZID=America/Los_Angeles:20211129T170000
DTSTAMP:20260422T045939
CREATED:20220901T224426Z
LAST-MODIFIED:20230926T204434Z
UID:5944-1638201600-1638205200@history.ucla.edu
SUMMARY:Iris Clever\, "The Afterlives of Skulls: How Race Science Became a Data Science."
DESCRIPTION:Nov 29 Iris Clever (University of Chicago) \n“The Afterlives of Skulls: How Race Science Became a Data Science.” \nThis talk will introduce anthropological practices that remain largely unexplored in the historical literature on racial science: biometrics. In the early twentieth century\, biometricians analyzed skull measurements with novel statistical methods to demonstrate racial-biological differences. With skull-measuring instruments and formulas\, they transformed skulls into data templates and quantified racial research. Using new archival material\, the talk will also reveal how these biometric data practices challenged racist anthropology\, in particular Nazi racial theories. This research thus reveals that the coexistence of antiracist and racializing practices was not paradoxical but an important feature of the anthropological study of human variation in the twentieth century. \n  \nFor remote participants:  \nPlease click here to register and receive a Zoom link \nFor those joining us on campus\, RSVP and symptom monitoring is required. Please be prepared to show your clearance status when entering the seminar room. \nPlease RSVP using this form if you will be attending in person \nFor visitors coming from other institutions\, please remember that UCLA has a vaccine mandate and that everyone coming to campus needs to fill out the daily symptom monitoring form which can be found here: \nhttps://uclasurveys.co1.qualtrics.com/jfe/form/SV_3qRLtouCYKzBbH7
URL:https://history.ucla.edu/event/iris-clever-the-afterlives-of-skulls-how-race-science-became-a-data-science/
LOCATION:Zoom
CATEGORIES:Events
ATTACH;FMTTYPE=image/jpeg:https://history.ucla.edu/wp-content/uploads/2022/01/history-science-logo.jpeg
END:VEVENT
END:VCALENDAR