BEGIN:VCALENDAR
VERSION:2.0
PRODID:-//UCLA Department of History - ECPv6.15.17.1//NONSGML v1.0//EN
CALSCALE:GREGORIAN
METHOD:PUBLISH
X-ORIGINAL-URL:https://history.ucla.edu
X-WR-CALDESC:Events for UCLA Department of History
REFRESH-INTERVAL;VALUE=DURATION:PT1H
X-Robots-Tag:noindex
X-PUBLISHED-TTL:PT1H
BEGIN:VTIMEZONE
TZID:America/Los_Angeles
BEGIN:DAYLIGHT
TZOFFSETFROM:-0800
TZOFFSETTO:-0700
TZNAME:PDT
DTSTART:20200308T100000
END:DAYLIGHT
BEGIN:STANDARD
TZOFFSETFROM:-0700
TZOFFSETTO:-0800
TZNAME:PST
DTSTART:20201101T090000
END:STANDARD
BEGIN:DAYLIGHT
TZOFFSETFROM:-0800
TZOFFSETTO:-0700
TZNAME:PDT
DTSTART:20210314T100000
END:DAYLIGHT
BEGIN:STANDARD
TZOFFSETFROM:-0700
TZOFFSETTO:-0800
TZNAME:PST
DTSTART:20211107T090000
END:STANDARD
BEGIN:DAYLIGHT
TZOFFSETFROM:-0800
TZOFFSETTO:-0700
TZNAME:PDT
DTSTART:20220313T100000
END:DAYLIGHT
BEGIN:STANDARD
TZOFFSETFROM:-0700
TZOFFSETTO:-0800
TZNAME:PST
DTSTART:20221106T090000
END:STANDARD
END:VTIMEZONE
BEGIN:VEVENT
DTSTART;TZID=America/Los_Angeles:20211130T160000
DTEND;TZID=America/Los_Angeles:20211130T160000
DTSTAMP:20260422T092716
CREATED:20220901T224141Z
LAST-MODIFIED:20230922T225715Z
UID:5937-1638288000-1638288000@history.ucla.edu
SUMMARY:Cecilia Gaposchkin (Dartmouth College)\, “History\, Liturgy\, and the Formation of Christian France”
DESCRIPTION:To RSVP\, please email Ann Major\nann@history.ucla.edu
URL:https://history.ucla.edu/event/cecilia-gaposchkin-dartmouth-college-history-liturgy-and-the-formation-of-christian-france/
LOCATION:Location given upon RSVP
CATEGORIES:Events
ATTACH;FMTTYPE=image/png:https://history.ucla.edu/wp-content/uploads/2022/09/ceciliajobtalk_1.png
END:VEVENT
END:VCALENDAR