BEGIN:VCALENDAR
VERSION:2.0
PRODID:-//UCLA Department of History - ECPv6.15.17.1//NONSGML v1.0//EN
CALSCALE:GREGORIAN
METHOD:PUBLISH
X-WR-CALNAME:UCLA Department of History
X-ORIGINAL-URL:https://history.ucla.edu
X-WR-CALDESC:Events for UCLA Department of History
REFRESH-INTERVAL;VALUE=DURATION:PT1H
X-Robots-Tag:noindex
X-PUBLISHED-TTL:PT1H
BEGIN:VTIMEZONE
TZID:America/Los_Angeles
BEGIN:DAYLIGHT
TZOFFSETFROM:-0800
TZOFFSETTO:-0700
TZNAME:PDT
DTSTART:20210314T100000
END:DAYLIGHT
BEGIN:STANDARD
TZOFFSETFROM:-0700
TZOFFSETTO:-0800
TZNAME:PST
DTSTART:20211107T090000
END:STANDARD
BEGIN:DAYLIGHT
TZOFFSETFROM:-0800
TZOFFSETTO:-0700
TZNAME:PDT
DTSTART:20220313T100000
END:DAYLIGHT
BEGIN:STANDARD
TZOFFSETFROM:-0700
TZOFFSETTO:-0800
TZNAME:PST
DTSTART:20221106T090000
END:STANDARD
BEGIN:DAYLIGHT
TZOFFSETFROM:-0800
TZOFFSETTO:-0700
TZNAME:PDT
DTSTART:20230312T100000
END:DAYLIGHT
BEGIN:STANDARD
TZOFFSETFROM:-0700
TZOFFSETTO:-0800
TZNAME:PST
DTSTART:20231105T090000
END:STANDARD
END:VTIMEZONE
BEGIN:VEVENT
DTSTART;TZID=America/Los_Angeles:20220110T160000
DTEND;TZID=America/Los_Angeles:20220110T173000
DTSTAMP:20260422T021024
CREATED:20220901T222752Z
LAST-MODIFIED:20230922T230917Z
UID:5919-1641830400-1641835800@history.ucla.edu
SUMMARY:History of Science Colloquium: Charles Kollmer (Caltech)
DESCRIPTION:“Industrial Accumulations: Microbes and Materials in Motion in the Late Nineteenth Century” \nBeginning in the latter half of the nineteenth century\, across Western Europe\, North America\, and regions of the globe colonized by European nations\, lines of scientific inquiry on the etiology of infectious diseases and the efficacy of industrial fermentations converged with longer-standing academic interests in single-celled life forms. Across varied contexts of investigation\, researchers adopted similar techniques for cultivating microorganisms\, developed on the premise that different varieties of microbes possessed distinctive nutritional needs and capacities for growth. To make these organisms into objects of scientific and technical knowledge\, researchers assembled so-called “pure cultures” and “enrichment cultures.” These complementary approaches entailed manipulating the composition of growth media\, which consisted of concentrated microbial sustenance separated from its surroundings by the walls of sealed glass containers. While ostensibly functioning to isolate cultivated microorganisms from the world outside\, these containers remained in some meaningful sense porous\, as researchers routinely incorporated into their growth media the products or byproducts of human affairs unfolding outside of the containers. Over the course of the talk\, I will introduce several examples of such nested milieus\, tracing connections between the life forms in- and outside microbial cultures. This exercise\, I will argue\, sheds new light on the molecular views of life that increasingly typified the life sciences over the course of the twentieth century. As researchers repurposed cultivated microorganisms as powerful instruments for probing nature’s order\, they also recorded\, sometimes unwittingly\, a proliferation of humans’ technical interventions in that order. \n  \nZoom RSVP: https://ucla.zoom.us/meeting/register/tJYldO6qqTkpHNUYeDeFN7a4kp65WWyWuUu0 \nIn Person RSVP: None – this meeting will take place only on Zoom.
URL:https://history.ucla.edu/event/history-of-science-colloquium-charles-kollmer-caltech/
LOCATION:Zoom
CATEGORIES:Events
END:VEVENT
END:VCALENDAR