BEGIN:VCALENDAR
VERSION:2.0
PRODID:-//UCLA Department of History - ECPv6.15.17.1//NONSGML v1.0//EN
CALSCALE:GREGORIAN
METHOD:PUBLISH
X-WR-CALNAME:UCLA Department of History
X-ORIGINAL-URL:https://history.ucla.edu
X-WR-CALDESC:Events for UCLA Department of History
REFRESH-INTERVAL;VALUE=DURATION:PT1H
X-Robots-Tag:noindex
X-PUBLISHED-TTL:PT1H
BEGIN:VTIMEZONE
TZID:America/Los_Angeles
BEGIN:DAYLIGHT
TZOFFSETFROM:-0800
TZOFFSETTO:-0700
TZNAME:PDT
DTSTART:20210314T100000
END:DAYLIGHT
BEGIN:STANDARD
TZOFFSETFROM:-0700
TZOFFSETTO:-0800
TZNAME:PST
DTSTART:20211107T090000
END:STANDARD
BEGIN:DAYLIGHT
TZOFFSETFROM:-0800
TZOFFSETTO:-0700
TZNAME:PDT
DTSTART:20220313T100000
END:DAYLIGHT
BEGIN:STANDARD
TZOFFSETFROM:-0700
TZOFFSETTO:-0800
TZNAME:PST
DTSTART:20221106T090000
END:STANDARD
BEGIN:DAYLIGHT
TZOFFSETFROM:-0800
TZOFFSETTO:-0700
TZNAME:PDT
DTSTART:20230312T100000
END:DAYLIGHT
BEGIN:STANDARD
TZOFFSETFROM:-0700
TZOFFSETTO:-0800
TZNAME:PST
DTSTART:20231105T090000
END:STANDARD
END:VTIMEZONE
BEGIN:VEVENT
DTSTART;TZID=America/Los_Angeles:20220207T160000
DTEND;TZID=America/Los_Angeles:20220207T173000
DTSTAMP:20260421T155856
CREATED:20220901T214616Z
LAST-MODIFIED:20220901T214616Z
UID:5907-1644249600-1644255000@history.ucla.edu
SUMMARY:History of Science Colloquium: Alexander Statman (UCLA\, Law)
DESCRIPTION:“A Global Enlightenment: Western Progress and Chinese Science.” \nThe idea of progress frames our modern understanding of understanding itself. It offers a historical account of the development of knowledge in space and time\, with the natural sciences serving as both its mark and guarantor. This account has a distinctive history all of its own. Historians have long considered it to be a signature contribution of the eighteenth-century European Enlightenment. But to really understand how it came to be\, we also have to pay attention to much that the European Enlightenment seemed to tell us to ignore. \nIn this talk\, I show that ideas of progress at the end of the Enlightenment were shaped by a continuous and transformative engagement with Chinese science. In Beijing\, the last survivor of the Jesuit mission\, Joseph-Marie Amiot\, studied qi\, taiji\, and yin-yang cosmology\, sending authentic primary and secondary sources from China back to France. In Paris\, his correspondents deployed them to tell new stories about the history of science\, inventing modern esotericism in the process. When this work was reincorporated into post-Enlightenment progress theories\, the past became a foreign country: both were made a window into a different way of knowing. \nZoom RSVP: \nhttps://ucla.zoom.us/meeting/register/tJcvcu6hrzssGdTWwugK_tYov09nxbNnjz0y \nIn Person RSVP: \nhttps://docs.google.com/forms/d/1E-8G-w9Sq22qwbnQFQHH_YAHkYyfkZ9fDLVn2eg1Zrg
URL:https://history.ucla.edu/event/history-of-science-colloquium-alexander-statman-ucla-law/
CATEGORIES:Events
END:VEVENT
END:VCALENDAR