BEGIN:VCALENDAR
VERSION:2.0
PRODID:-//UCLA Department of History - ECPv6.15.17.1//NONSGML v1.0//EN
CALSCALE:GREGORIAN
METHOD:PUBLISH
X-WR-CALNAME:UCLA Department of History
X-ORIGINAL-URL:https://history.ucla.edu
X-WR-CALDESC:Events for UCLA Department of History
REFRESH-INTERVAL;VALUE=DURATION:PT1H
X-Robots-Tag:noindex
X-PUBLISHED-TTL:PT1H
BEGIN:VTIMEZONE
TZID:America/Los_Angeles
BEGIN:DAYLIGHT
TZOFFSETFROM:-0800
TZOFFSETTO:-0700
TZNAME:PDT
DTSTART:20210314T100000
END:DAYLIGHT
BEGIN:STANDARD
TZOFFSETFROM:-0700
TZOFFSETTO:-0800
TZNAME:PST
DTSTART:20211107T090000
END:STANDARD
BEGIN:DAYLIGHT
TZOFFSETFROM:-0800
TZOFFSETTO:-0700
TZNAME:PDT
DTSTART:20220313T100000
END:DAYLIGHT
BEGIN:STANDARD
TZOFFSETFROM:-0700
TZOFFSETTO:-0800
TZNAME:PST
DTSTART:20221106T090000
END:STANDARD
BEGIN:DAYLIGHT
TZOFFSETFROM:-0800
TZOFFSETTO:-0700
TZNAME:PDT
DTSTART:20230312T100000
END:DAYLIGHT
BEGIN:STANDARD
TZOFFSETFROM:-0700
TZOFFSETTO:-0800
TZNAME:PST
DTSTART:20231105T090000
END:STANDARD
END:VTIMEZONE
BEGIN:VEVENT
DTSTART;TZID=America/Los_Angeles:20220210T123000
DTEND;TZID=America/Los_Angeles:20220210T140000
DTSTAMP:20260421T155854
CREATED:20220901T214415Z
LAST-MODIFIED:20220901T214415Z
UID:5899-1644496200-1644501600@history.ucla.edu
SUMMARY:Transatlantic Blues: A French Botanist Experiments with Indigo by Mary Terrall
DESCRIPTION:The French botanist Michel Adanson spent five years in pre-colonial Senegal in the 1750s\, under the auspices of the Compagnie des Indes\, collecting and cultivating African plants and mapping the landscape and natural resources of the region.  He traversed this landscape with a variety of African interlocutors and guides\, whose knowledge inevitably\, if often invisibly\, informed his collections\, maps\, and scientific works. With particular attention to the materiality of indigo\,this paper follows the archival traces of Adanson’s engagement with African indigo\, including experiments conducted in an ad hoc “laboratory” near the French fort of Saint-Louis. Making scientific knowledge for European audiences (including the royal scientific institutions and the Bureau of the Colonies) depended on various kinds of local African knowledge\, as well as on Caribbean plantation experience. This talk will explore questions about the geographies of knowledge and French imperial ambitions\, through close attention to the material properties of indigo\, the practices associated with its transformation from plant to dye\, and the material remnants of Adanson’s engagement with it in Africa. This is both a microhistory of encounters in and around a tiny island off the West African coast and a trans-Atlantic story connecting Senegal to Paris and to French colonies in the Caribbean (Saint Domingue and Guyana).  \nHybrid Bunche 6275 \nZoom RSVP https://ucla.in/3HyDjMD
URL:https://history.ucla.edu/event/transatlantic-blues-a-french-botanist-experiments-with-indigo-by-mary-terrall/
LOCATION:Zoom
CATEGORIES:Events
ATTACH;FMTTYPE=image/jpeg:https://history.ucla.edu/wp-content/uploads/2022/09/atl-flyer-terrall-2022_0.jpeg
END:VEVENT
END:VCALENDAR