BEGIN:VCALENDAR
VERSION:2.0
PRODID:-//UCLA Department of History - ECPv6.15.17.1//NONSGML v1.0//EN
CALSCALE:GREGORIAN
METHOD:PUBLISH
X-ORIGINAL-URL:https://history.ucla.edu
X-WR-CALDESC:Events for UCLA Department of History
REFRESH-INTERVAL;VALUE=DURATION:PT1H
X-Robots-Tag:noindex
X-PUBLISHED-TTL:PT1H
BEGIN:VTIMEZONE
TZID:America/Los_Angeles
BEGIN:DAYLIGHT
TZOFFSETFROM:-0800
TZOFFSETTO:-0700
TZNAME:PDT
DTSTART:20210314T100000
END:DAYLIGHT
BEGIN:STANDARD
TZOFFSETFROM:-0700
TZOFFSETTO:-0800
TZNAME:PST
DTSTART:20211107T090000
END:STANDARD
BEGIN:DAYLIGHT
TZOFFSETFROM:-0800
TZOFFSETTO:-0700
TZNAME:PDT
DTSTART:20220313T100000
END:DAYLIGHT
BEGIN:STANDARD
TZOFFSETFROM:-0700
TZOFFSETTO:-0800
TZNAME:PST
DTSTART:20221106T090000
END:STANDARD
BEGIN:DAYLIGHT
TZOFFSETFROM:-0800
TZOFFSETTO:-0700
TZNAME:PDT
DTSTART:20230312T100000
END:DAYLIGHT
BEGIN:STANDARD
TZOFFSETFROM:-0700
TZOFFSETTO:-0800
TZNAME:PST
DTSTART:20231105T090000
END:STANDARD
END:VTIMEZONE
BEGIN:VEVENT
DTSTART;TZID=America/Los_Angeles:20220406T170000
DTEND;TZID=America/Los_Angeles:20220406T180000
DTSTAMP:20260421T035435
CREATED:20220901T212242Z
LAST-MODIFIED:20220901T212242Z
UID:5872-1649264400-1649268000@history.ucla.edu
SUMMARY:Magdeburg\, 1554: Flacius Illyricus Applies for a Grant
DESCRIPTION:A lecture by Professor Anthony Grafton (Princeton University). \nEcclesiastical history began in the 1550s\, when the Lutheran Matthias Flacius Illyricus organized\na collaborative century-by-century history of Christianity. This confessional project never\nreached completion\, and its thick volumes met with severe criticism from co-religionists as well\nas Catholics. Nonetheless\, it provided a new model for the study of the past\, inspiring a\nrevolution in historiography. That’s the standard story. It’s not wrong: Flacius did many original\nthings: for example\, writing and submitting grant proposals. But it’s radically incomplete. This\nlecture reinterprets Flacius’s project and reexamines its impact. \nSponsored by CMRS-CEGS and the European Colloquium of the Department of History. \n5:00 pm PST in Royce 314 and live on Zoom. \nRegister to attend either onsite or online.
URL:https://history.ucla.edu/event/magdeburg-1554-flacius-illyricus-applies-for-a-grant/
LOCATION:UCLA Royce Hall – Room 314\, 10745 Dickson Ct\, Los Angeles\, CA\, 90095\, United States
CATEGORIES:Events
ATTACH;FMTTYPE=image/jpeg:https://history.ucla.edu/wp-content/uploads/2022/09/matthias_flacius_engraving.jpeg
END:VEVENT
END:VCALENDAR