BEGIN:VCALENDAR
VERSION:2.0
PRODID:-//UCLA Department of History - ECPv6.15.17.1//NONSGML v1.0//EN
CALSCALE:GREGORIAN
METHOD:PUBLISH
X-ORIGINAL-URL:https://history.ucla.edu
X-WR-CALDESC:Events for UCLA Department of History
REFRESH-INTERVAL;VALUE=DURATION:PT1H
X-Robots-Tag:noindex
X-PUBLISHED-TTL:PT1H
BEGIN:VTIMEZONE
TZID:America/Los_Angeles
BEGIN:DAYLIGHT
TZOFFSETFROM:-0800
TZOFFSETTO:-0700
TZNAME:PDT
DTSTART:20210314T100000
END:DAYLIGHT
BEGIN:STANDARD
TZOFFSETFROM:-0700
TZOFFSETTO:-0800
TZNAME:PST
DTSTART:20211107T090000
END:STANDARD
BEGIN:DAYLIGHT
TZOFFSETFROM:-0800
TZOFFSETTO:-0700
TZNAME:PDT
DTSTART:20220313T100000
END:DAYLIGHT
BEGIN:STANDARD
TZOFFSETFROM:-0700
TZOFFSETTO:-0800
TZNAME:PST
DTSTART:20221106T090000
END:STANDARD
BEGIN:DAYLIGHT
TZOFFSETFROM:-0800
TZOFFSETTO:-0700
TZNAME:PDT
DTSTART:20230312T100000
END:DAYLIGHT
BEGIN:STANDARD
TZOFFSETFROM:-0700
TZOFFSETTO:-0800
TZNAME:PST
DTSTART:20231105T090000
END:STANDARD
END:VTIMEZONE
BEGIN:VEVENT
DTSTART;TZID=America/Los_Angeles:20220418T160000
DTEND;TZID=America/Los_Angeles:20220418T173000
DTSTAMP:20260421T065714
CREATED:20220901T211441Z
LAST-MODIFIED:20220901T211441Z
UID:5855-1650297600-1650303000@history.ucla.edu
SUMMARY:History of Science Colloquium: Peiting C. Li (Cedars-Sinai)
DESCRIPTION:April 18 Peiting C. Li (Cedars-Sinai) \n“When Herbs Become Drugs: Late Natural History and Early Clinical Trials in China” \nZoom RSVP: https://ucla.zoom.us/meeting/register/tJwrce2vrDwuHtTE7HtTqJTG7iCo7vS39XWO \nIn Person RSVP: https://docs.google.com/forms/d/1ILInDOwf0IzCN9TMRv9cMWhPxtUCe8PIFSgGKZaoi2w \nThis talk discusses investigations of a Chinese herbal tuberculosis treatment as a window onto shifts in the production of scientific\nmedical knowledge in 1920-1930s Shanghai. Once a remedy for consumption local to the mountains of southern China and known by a variety of names in gazetteers and botanical sources\, by the 1920s it was sold in Shanghai as a trademarked tuberculosis treatment\, advertised in newspapers\, and tested by the state’s nascent public health institutions. Doctors sought to understand the herb in modes ranging from textual studies reminiscent of late imperial natural history to systematic evaluation of the effects of treatment in patients. Tracing changes in the ways doctors analyzed this herb reveals the increasing importance of quantification and experimentation in medical writing at this time.
URL:https://history.ucla.edu/event/history-of-science-colloquium-peiting-c-li-cedars-sinai/
CATEGORIES:Events
END:VEVENT
END:VCALENDAR