BEGIN:VCALENDAR
VERSION:2.0
PRODID:-//UCLA Department of History - ECPv6.15.17.1//NONSGML v1.0//EN
CALSCALE:GREGORIAN
METHOD:PUBLISH
X-ORIGINAL-URL:https://history.ucla.edu
X-WR-CALDESC:Events for UCLA Department of History
REFRESH-INTERVAL;VALUE=DURATION:PT1H
X-Robots-Tag:noindex
X-PUBLISHED-TTL:PT1H
BEGIN:VTIMEZONE
TZID:America/Los_Angeles
BEGIN:DAYLIGHT
TZOFFSETFROM:-0800
TZOFFSETTO:-0700
TZNAME:PDT
DTSTART:20210314T100000
END:DAYLIGHT
BEGIN:STANDARD
TZOFFSETFROM:-0700
TZOFFSETTO:-0800
TZNAME:PST
DTSTART:20211107T090000
END:STANDARD
BEGIN:DAYLIGHT
TZOFFSETFROM:-0800
TZOFFSETTO:-0700
TZNAME:PDT
DTSTART:20220313T100000
END:DAYLIGHT
BEGIN:STANDARD
TZOFFSETFROM:-0700
TZOFFSETTO:-0800
TZNAME:PST
DTSTART:20221106T090000
END:STANDARD
BEGIN:DAYLIGHT
TZOFFSETFROM:-0800
TZOFFSETTO:-0700
TZNAME:PDT
DTSTART:20230312T100000
END:DAYLIGHT
BEGIN:STANDARD
TZOFFSETFROM:-0700
TZOFFSETTO:-0800
TZNAME:PST
DTSTART:20231105T090000
END:STANDARD
END:VTIMEZONE
BEGIN:VEVENT
DTSTART;TZID=America/Los_Angeles:20220422T110000
DTEND;TZID=America/Los_Angeles:20220422T120000
DTSTAMP:20260421T065711
CREATED:20220901T210515Z
LAST-MODIFIED:20220901T210707Z
UID:5842-1650625200-1650628800@history.ucla.edu
SUMMARY:Brian J. Griffith Hosting Book Talk on Dr. Diana Garvin's Feeding Fascism
DESCRIPTION:Brian J. Griffith will be hosting a book talk on Dr. Diana Garvin’s recently published book\, Feeding Fascism\,  in conjunction with his HIST 132 course on April 22nd from 11am to 12pm via Zoom. \nZoom registration: https://www.tinyurl.com/feeding-fascism
URL:https://history.ucla.edu/event/brian-j-griffith-hosting-book-talk-on-dr-diana-garvins-feeding-fascism/
LOCATION:Zoom
CATEGORIES:Events
ATTACH;FMTTYPE=image/jpeg:https://history.ucla.edu/wp-content/uploads/2022/09/garvin_feeding_fascism_cover.jpeg
END:VEVENT
END:VCALENDAR