BEGIN:VCALENDAR
VERSION:2.0
PRODID:-//UCLA Department of History - ECPv6.15.17.1//NONSGML v1.0//EN
CALSCALE:GREGORIAN
METHOD:PUBLISH
X-ORIGINAL-URL:https://history.ucla.edu
X-WR-CALDESC:Events for UCLA Department of History
REFRESH-INTERVAL;VALUE=DURATION:PT1H
X-Robots-Tag:noindex
X-PUBLISHED-TTL:PT1H
BEGIN:VTIMEZONE
TZID:America/Los_Angeles
BEGIN:DAYLIGHT
TZOFFSETFROM:-0800
TZOFFSETTO:-0700
TZNAME:PDT
DTSTART:20210314T100000
END:DAYLIGHT
BEGIN:STANDARD
TZOFFSETFROM:-0700
TZOFFSETTO:-0800
TZNAME:PST
DTSTART:20211107T090000
END:STANDARD
BEGIN:DAYLIGHT
TZOFFSETFROM:-0800
TZOFFSETTO:-0700
TZNAME:PDT
DTSTART:20220313T100000
END:DAYLIGHT
BEGIN:STANDARD
TZOFFSETFROM:-0700
TZOFFSETTO:-0800
TZNAME:PST
DTSTART:20221106T090000
END:STANDARD
BEGIN:DAYLIGHT
TZOFFSETFROM:-0800
TZOFFSETTO:-0700
TZNAME:PDT
DTSTART:20230312T100000
END:DAYLIGHT
BEGIN:STANDARD
TZOFFSETFROM:-0700
TZOFFSETTO:-0800
TZNAME:PST
DTSTART:20231105T090000
END:STANDARD
END:VTIMEZONE
BEGIN:VEVENT
DTSTART;TZID=America/Los_Angeles:20220502T160000
DTEND;TZID=America/Los_Angeles:20220502T173000
DTSTAMP:20260421T021453
CREATED:20220901T210411Z
LAST-MODIFIED:20220901T210411Z
UID:5839-1651507200-1651512600@history.ucla.edu
SUMMARY:History of Science Colloquium: Alexandra Minna Stern (University of Michigan)
DESCRIPTION:May 2 Alexandra Minna Stern (University of Michigan) \n“From State Coercion to Reparative Justice? Histories and Legacies of Eugenics and Sterilization in California” \nZoom RSVP: https://ucla.zoom.us/meeting/register/tJEvdOmqrjojEtRUCEXGyTS_3KjPNovF6r6L \nIn Person RSVP: https://docs.google.com/forms/d/1VuNtVVC2wj5HhtXpY9FXKdf43Tgp4W118aSpFY95x-E \nThis talk explores the history and legacies of eugenics and coerced sterilization in California from three angles. First\, I provide an overview of the archival and collaborative research involved in reconstructing the demographic and contextual history of compulsory sterilization during the era of eugenic legislation (1909-1979). Second\, I discuss the relevance of this history to contemporary issues in society and genetics\, ranging from debates over acceptable building names on university campuses to the insidious biases of some reprogenetic technologies. Finally\, I conclude by reflecting on the benefits and limits of reparations for eugenics\, with specific attention to the recently implemented compensation program for survivors of coerced sterilizations in state-run homes\, hospitals\, and prisons in California.
URL:https://history.ucla.edu/event/history-of-science-colloquium-alexandra-minna-stern-university-of-michigan/
CATEGORIES:Events
END:VEVENT
END:VCALENDAR