BEGIN:VCALENDAR
VERSION:2.0
PRODID:-//UCLA Department of History - ECPv6.15.17.1//NONSGML v1.0//EN
CALSCALE:GREGORIAN
METHOD:PUBLISH
X-ORIGINAL-URL:https://history.ucla.edu
X-WR-CALDESC:Events for UCLA Department of History
REFRESH-INTERVAL;VALUE=DURATION:PT1H
X-Robots-Tag:noindex
X-PUBLISHED-TTL:PT1H
BEGIN:VTIMEZONE
TZID:America/Los_Angeles
BEGIN:DAYLIGHT
TZOFFSETFROM:-0800
TZOFFSETTO:-0700
TZNAME:PDT
DTSTART:20210314T100000
END:DAYLIGHT
BEGIN:STANDARD
TZOFFSETFROM:-0700
TZOFFSETTO:-0800
TZNAME:PST
DTSTART:20211107T090000
END:STANDARD
BEGIN:DAYLIGHT
TZOFFSETFROM:-0800
TZOFFSETTO:-0700
TZNAME:PDT
DTSTART:20220313T100000
END:DAYLIGHT
BEGIN:STANDARD
TZOFFSETFROM:-0700
TZOFFSETTO:-0800
TZNAME:PST
DTSTART:20221106T090000
END:STANDARD
BEGIN:DAYLIGHT
TZOFFSETFROM:-0800
TZOFFSETTO:-0700
TZNAME:PDT
DTSTART:20230312T100000
END:DAYLIGHT
BEGIN:STANDARD
TZOFFSETFROM:-0700
TZOFFSETTO:-0800
TZNAME:PST
DTSTART:20231105T090000
END:STANDARD
END:VTIMEZONE
BEGIN:VEVENT
DTSTART;TZID=America/Los_Angeles:20221114T160000
DTEND;TZID=America/Los_Angeles:20221114T173000
DTSTAMP:20260420T144223
CREATED:20221109T182403Z
LAST-MODIFIED:20221109T190843Z
UID:6291-1668441600-1668447000@history.ucla.edu
SUMMARY:History of Science Colloquium: E. Bennett Jones (The Huntington Library)
DESCRIPTION:The Indians Say: Storytelling\, Settler Colonialism and American Natural History\, 1722 to 1846 \nThis talk discusses the use of information attributed to Indigenous sources within eighteenth and nineteenth century Anglophone natural history. Early modern naturalists studying North American flora and fauna frequently sought out the expertise of Indigenous people\, who they simultaneously regarded as authoritative knowers and objects of study. But diplomatic alliances\, specific cultural protocols\, and regional dynamics all encouraged (or prevented) information sharing between settler naturalists and Indigenous people and these contexts in turn shaped how Anglophone naturalists presented and cited Indigenous expertise in published natural history. The talk explores the relationship between evidence\, identity\, and colonialism and examines how ideas about extraction and information underpinned the epistemology of early modern natural history. It also gestures towards present-day manifestations of these issues within scientific approaches to TEK (traditional ecological knowledge). \n  \nRSVP for Zoom: https://ucla.zoom.us/meeting/register/tJEodO6vqzMuHdyICRUzt3ost8nF5jHEO8TX \nRSVP for in-person: https://forms.gle/4YpigVHmijybhVYv9
URL:https://history.ucla.edu/event/the-indians-say-storytelling-settler-colonialism-and-american-natural-history-1722-to-1846/
LOCATION:Bunche 5288 & Zoom
CATEGORIES:History of Science Colloquium
END:VEVENT
END:VCALENDAR