BEGIN:VCALENDAR
VERSION:2.0
PRODID:-//UCLA Department of History - ECPv6.15.17.1//NONSGML v1.0//EN
CALSCALE:GREGORIAN
METHOD:PUBLISH
X-WR-CALNAME:UCLA Department of History
X-ORIGINAL-URL:https://history.ucla.edu
X-WR-CALDESC:Events for UCLA Department of History
REFRESH-INTERVAL;VALUE=DURATION:PT1H
X-Robots-Tag:noindex
X-PUBLISHED-TTL:PT1H
BEGIN:VTIMEZONE
TZID:America/Los_Angeles
BEGIN:DAYLIGHT
TZOFFSETFROM:-0800
TZOFFSETTO:-0700
TZNAME:PDT
DTSTART:20220313T100000
END:DAYLIGHT
BEGIN:STANDARD
TZOFFSETFROM:-0700
TZOFFSETTO:-0800
TZNAME:PST
DTSTART:20221106T090000
END:STANDARD
BEGIN:DAYLIGHT
TZOFFSETFROM:-0800
TZOFFSETTO:-0700
TZNAME:PDT
DTSTART:20230312T100000
END:DAYLIGHT
BEGIN:STANDARD
TZOFFSETFROM:-0700
TZOFFSETTO:-0800
TZNAME:PST
DTSTART:20231105T090000
END:STANDARD
BEGIN:DAYLIGHT
TZOFFSETFROM:-0800
TZOFFSETTO:-0700
TZNAME:PDT
DTSTART:20240310T100000
END:DAYLIGHT
BEGIN:STANDARD
TZOFFSETFROM:-0700
TZOFFSETTO:-0800
TZNAME:PST
DTSTART:20241103T090000
END:STANDARD
END:VTIMEZONE
BEGIN:VEVENT
DTSTART;TZID=America/Los_Angeles:20230202T120000
DTEND;TZID=America/Los_Angeles:20230202T133000
DTSTAMP:20260420T131150
CREATED:20230119T191630Z
LAST-MODIFIED:20230125T174332Z
UID:6471-1675339200-1675344600@history.ucla.edu
SUMMARY:Brett Rushforth\, Associate Professor\, University of Oregon “Consuming Colonialism: The Atlantic World in Sixteenth-Century France”
DESCRIPTION:Brett Rushforth\, Associate Professor\, University of Oregon\n“Consuming Colonialism: The Atlantic World in Sixteenth-Century France” \nZoom RSVP Here
URL:https://history.ucla.edu/event/brett-rushforth-associate-professor-university-of-oregon-consuming-colonialism-the-atlantic-world-in-sixteenth-century-france/
LOCATION:Bunche 6275 & Zoom
CATEGORIES:Atlantic History Lecture Series
ATTACH;FMTTYPE=image/jpeg:https://history.ucla.edu/wp-content/uploads/2023/01/ATL-flyer-Rushforth-2023.jpg
END:VEVENT
END:VCALENDAR