BEGIN:VCALENDAR
VERSION:2.0
PRODID:-//UCLA Department of History - ECPv6.15.17.1//NONSGML v1.0//EN
CALSCALE:GREGORIAN
METHOD:PUBLISH
X-ORIGINAL-URL:https://history.ucla.edu
X-WR-CALDESC:Events for UCLA Department of History
REFRESH-INTERVAL;VALUE=DURATION:PT1H
X-Robots-Tag:noindex
X-PUBLISHED-TTL:PT1H
BEGIN:VTIMEZONE
TZID:America/Los_Angeles
BEGIN:DAYLIGHT
TZOFFSETFROM:-0800
TZOFFSETTO:-0700
TZNAME:PDT
DTSTART:20220313T100000
END:DAYLIGHT
BEGIN:STANDARD
TZOFFSETFROM:-0700
TZOFFSETTO:-0800
TZNAME:PST
DTSTART:20221106T090000
END:STANDARD
BEGIN:DAYLIGHT
TZOFFSETFROM:-0800
TZOFFSETTO:-0700
TZNAME:PDT
DTSTART:20230312T100000
END:DAYLIGHT
BEGIN:STANDARD
TZOFFSETFROM:-0700
TZOFFSETTO:-0800
TZNAME:PST
DTSTART:20231105T090000
END:STANDARD
BEGIN:DAYLIGHT
TZOFFSETFROM:-0800
TZOFFSETTO:-0700
TZNAME:PDT
DTSTART:20240310T100000
END:DAYLIGHT
BEGIN:STANDARD
TZOFFSETFROM:-0700
TZOFFSETTO:-0800
TZNAME:PST
DTSTART:20241103T090000
END:STANDARD
END:VTIMEZONE
BEGIN:VEVENT
DTSTART;TZID=America/Los_Angeles:20230206T163000
DTEND;TZID=America/Los_Angeles:20230206T163000
DTSTAMP:20260420T113109
CREATED:20221109T191639Z
LAST-MODIFIED:20230117T193859Z
UID:6311-1675701000-1675701000@history.ucla.edu
SUMMARY:Noelle Turtur (Weber Postdoctoral Fellow\, UCLA): “Challenging Fascist Corporatism in the Colonies: Truckers and the Italian Company for East African Transports (CITAO)\, 1937-40”
DESCRIPTION:
URL:https://history.ucla.edu/event/noelle-turtur-weber-postdoctoral-fellow-ucla-challenging-fascist-corporatism-in-the-colonies-truckers-and-the-italian-company-for-east-african-transports-citao-1937-40/
LOCATION:6275 Bunche Hall
END:VEVENT
END:VCALENDAR