BEGIN:VCALENDAR
VERSION:2.0
PRODID:-//UCLA Department of History - ECPv6.15.17.1//NONSGML v1.0//EN
CALSCALE:GREGORIAN
METHOD:PUBLISH
X-WR-CALNAME:UCLA Department of History
X-ORIGINAL-URL:https://history.ucla.edu
X-WR-CALDESC:Events for UCLA Department of History
REFRESH-INTERVAL;VALUE=DURATION:PT1H
X-Robots-Tag:noindex
X-PUBLISHED-TTL:PT1H
BEGIN:VTIMEZONE
TZID:America/Los_Angeles
BEGIN:DAYLIGHT
TZOFFSETFROM:-0800
TZOFFSETTO:-0700
TZNAME:PDT
DTSTART:20220313T100000
END:DAYLIGHT
BEGIN:STANDARD
TZOFFSETFROM:-0700
TZOFFSETTO:-0800
TZNAME:PST
DTSTART:20221106T090000
END:STANDARD
BEGIN:DAYLIGHT
TZOFFSETFROM:-0800
TZOFFSETTO:-0700
TZNAME:PDT
DTSTART:20230312T100000
END:DAYLIGHT
BEGIN:STANDARD
TZOFFSETFROM:-0700
TZOFFSETTO:-0800
TZNAME:PST
DTSTART:20231105T090000
END:STANDARD
BEGIN:DAYLIGHT
TZOFFSETFROM:-0800
TZOFFSETTO:-0700
TZNAME:PDT
DTSTART:20240310T100000
END:DAYLIGHT
BEGIN:STANDARD
TZOFFSETFROM:-0700
TZOFFSETTO:-0800
TZNAME:PST
DTSTART:20241103T090000
END:STANDARD
END:VTIMEZONE
BEGIN:VEVENT
DTSTART;TZID=America/Los_Angeles:20230216T120000
DTEND;TZID=America/Los_Angeles:20230216T133000
DTSTAMP:20260420T112956
CREATED:20230119T202845Z
LAST-MODIFIED:20230119T202934Z
UID:6479-1676548800-1676554200@history.ucla.edu
SUMMARY:Madina Thiam\, Assistant Professor of History\, NYU "Absolutely and Utterly Free: An Atlantic-Saharan Journey through Slavery and Race-Making\, 1834-1836"
DESCRIPTION:This talk follows Abu Bakr al-Siddiq Watara\, a Timbuktu-born teenager who was enslaved in Jamaica from 1805 to 1834. Upon securing his manumission\, Watara undertook a trans-Atlantic and trans-Saharan journey\, in a bid to return home. A close examination of Watara’s words and writings about him\, and a reconstruction of his trajectory\, provides insight into the social and political forces that ushered in deep changes in the worlds of the British Atlantic and Muslim Sahel and Sahara\, in the first half of the nineteenth century. As Watara sought to secure freedom while journeying across the Atlantic and Sahara\, which strategies did he leverage? How did larger political changes in 1820s-1830s Sahel\, Sahara\, and Atlantic render his aspirations to freedom possible\, and how did they restrict them? Scholars have previously written about Watara’s journey and writings by situating his autobiography within the broader genre of transatlantic slave narratives\, and analyzing his trajectory as evidence of the retention of African cultural expressions among enslaved Black Muslims in the Americas. \nThis talk offers a new interpretation of Watara’s articulation and praxis of freedom\, framing them in the broader contexts of the end of chattel slavery in the British Atlantic\, booming trans-Saharan slave trade\, and changing notions of race and enslaveability in the West African Sahel in the era of Islamic revolutions and state-building. \nZoom RSVP \n 
URL:https://history.ucla.edu/event/madina-thiam-assistant-professor-of-history-nyu-absolutely-and-utterly-free-an-atlantic-saharan-journey-through-slavery-and-race-making-1834-1836/
LOCATION:Bunche 6275 & Zoom
CATEGORIES:Atlantic History Lecture Series
END:VEVENT
END:VCALENDAR