BEGIN:VCALENDAR
VERSION:2.0
PRODID:-//UCLA Department of History - ECPv6.15.17.1//NONSGML v1.0//EN
CALSCALE:GREGORIAN
METHOD:PUBLISH
X-ORIGINAL-URL:https://history.ucla.edu
X-WR-CALDESC:Events for UCLA Department of History
REFRESH-INTERVAL;VALUE=DURATION:PT1H
X-Robots-Tag:noindex
X-PUBLISHED-TTL:PT1H
BEGIN:VTIMEZONE
TZID:America/Los_Angeles
BEGIN:DAYLIGHT
TZOFFSETFROM:-0800
TZOFFSETTO:-0700
TZNAME:PDT
DTSTART:20220313T100000
END:DAYLIGHT
BEGIN:STANDARD
TZOFFSETFROM:-0700
TZOFFSETTO:-0800
TZNAME:PST
DTSTART:20221106T090000
END:STANDARD
BEGIN:DAYLIGHT
TZOFFSETFROM:-0800
TZOFFSETTO:-0700
TZNAME:PDT
DTSTART:20230312T100000
END:DAYLIGHT
BEGIN:STANDARD
TZOFFSETFROM:-0700
TZOFFSETTO:-0800
TZNAME:PST
DTSTART:20231105T090000
END:STANDARD
BEGIN:DAYLIGHT
TZOFFSETFROM:-0800
TZOFFSETTO:-0700
TZNAME:PDT
DTSTART:20240310T100000
END:DAYLIGHT
BEGIN:STANDARD
TZOFFSETFROM:-0700
TZOFFSETTO:-0800
TZNAME:PST
DTSTART:20241103T090000
END:STANDARD
END:VTIMEZONE
BEGIN:VEVENT
DTSTART;TZID=America/Los_Angeles:20230420T120000
DTEND;TZID=America/Los_Angeles:20230420T133000
DTSTAMP:20260420T031627
CREATED:20230119T211310Z
LAST-MODIFIED:20230420T173135Z
UID:6485-1681992000-1681997400@history.ucla.edu
SUMMARY:Mika Lior\, Assistant Professor of Performing Arts at the University of Malta\, "Circling With/In: Choreographies of Gendered & Regendered Agency in Bahian Candomblé"
DESCRIPTION:Mika Lior\, Assistant Professor of Performing Arts at the University of Malta\n“Circling With/In: Choreographies of Gendered & Regendered Agency in Bahian Candomblé” \nBased on history\, dance studies methodologies and critical ethnography\, this paper addresses choreographies of invocation and incorporation in the Afro-Brazilian ritual practice of Candomblé through the lens of indigenous feminisms and choreographic analysis. Looking closely at practitioners’ use of circular and cyclical movements and spatial pathways at a range of ceremonial sites in Salvador\, the capital of Bahia in Northeastern Brazil\, I show how Candomblé’s aesthetic principles and matri-focal social structures are similarly informed by what I call a feminist poiesis\, evidenced in ceremonial performance histories that privilege women’s bodies for mediumship. Intervening in the dominant representation of Candomblé’s spirit embodiments as acts of “possession\,” I attend to practitioners’ idioms of incorporation\, including circling with and in the saint –“rodar com o santo” and “rodar no santo\,” – to illustrate how ritual processes are actively constructed around intersubjective\, movement oriented ontologies as well as cycles of women’s reproductivity and Yoruba-Atlantic understandings of gendered agency. At the same time\, processes of incorporation instantiate a non-binary ontology of ritual gender fluidity through which male mediums take on structurally feminized roles. \nThis presentation concludes by considering how performance studies approaches such as choreographic analysis and dance practice under the tutelage of ritual experts can contribute to processes of intercultural knowledge production. I share my ethnographic dance film\, Ogum’s Story\, co-created with Candomblé elder Dona Cici\, as a model for thinking through circling with/in not only as an ontology of spirit embodiment but also a collaborative\, mutually reciprocal research method. \nZoom RSVP Here
URL:https://history.ucla.edu/event/mika-lior-assistant-professor-of-performing-arts-at-the-university-of-malta-circling-with-in-choreographies-of-gendered-regendered-agency-in-bahian-candomble/
LOCATION:Zoom
CATEGORIES:Atlantic History Lecture Series
END:VEVENT
END:VCALENDAR