BEGIN:VCALENDAR
VERSION:2.0
PRODID:-//UCLA Department of History - ECPv6.15.17.1//NONSGML v1.0//EN
CALSCALE:GREGORIAN
METHOD:PUBLISH
X-WR-CALNAME:UCLA Department of History
X-ORIGINAL-URL:https://history.ucla.edu
X-WR-CALDESC:Events for UCLA Department of History
REFRESH-INTERVAL;VALUE=DURATION:PT1H
X-Robots-Tag:noindex
X-PUBLISHED-TTL:PT1H
BEGIN:VTIMEZONE
TZID:America/Los_Angeles
BEGIN:DAYLIGHT
TZOFFSETFROM:-0800
TZOFFSETTO:-0700
TZNAME:PDT
DTSTART:20220313T100000
END:DAYLIGHT
BEGIN:STANDARD
TZOFFSETFROM:-0700
TZOFFSETTO:-0800
TZNAME:PST
DTSTART:20221106T090000
END:STANDARD
BEGIN:DAYLIGHT
TZOFFSETFROM:-0800
TZOFFSETTO:-0700
TZNAME:PDT
DTSTART:20230312T100000
END:DAYLIGHT
BEGIN:STANDARD
TZOFFSETFROM:-0700
TZOFFSETTO:-0800
TZNAME:PST
DTSTART:20231105T090000
END:STANDARD
BEGIN:DAYLIGHT
TZOFFSETFROM:-0800
TZOFFSETTO:-0700
TZNAME:PDT
DTSTART:20240310T100000
END:DAYLIGHT
BEGIN:STANDARD
TZOFFSETFROM:-0700
TZOFFSETTO:-0800
TZNAME:PST
DTSTART:20241103T090000
END:STANDARD
END:VTIMEZONE
BEGIN:VEVENT
DTSTART;TZID=America/Los_Angeles:20230519T090000
DTEND;TZID=America/Los_Angeles:20230519T170000
DTSTAMP:20260420T014156
CREATED:20230428T194535Z
LAST-MODIFIED:20230428T194535Z
UID:7182-1684486800-1684515600@history.ucla.edu
SUMMARY:Clark Library Conference "From Bodies to Things: The Commodification of Human Life in the Early Modern Atlantic" organized by Tawny Paul and Andrew Apter (UCLA)
DESCRIPTION:https://www.1718.ucla.edu/events/bodies-to-things-1/
URL:https://history.ucla.edu/event/clark-library-conference-from-bodies-to-things-the-commodification-of-human-life-in-the-early-modern-atlantic-organized-by-tawny-paul-and-andrew-apter-ucla/
LOCATION:William Andrews Clark Memorial Library\, 2520 Cimarron Street\, Los Angeles\, CA 90018\, United States
CATEGORIES:Atlantic History Lecture Series
ATTACH;FMTTYPE=image/png:https://history.ucla.edu/wp-content/uploads/2023/04/Screenshot-2023-04-28-at-12.44.57-PM.png
END:VEVENT
END:VCALENDAR