BEGIN:VCALENDAR
VERSION:2.0
PRODID:-//UCLA Department of History - ECPv6.15.17.1//NONSGML v1.0//EN
CALSCALE:GREGORIAN
METHOD:PUBLISH
X-ORIGINAL-URL:https://history.ucla.edu
X-WR-CALDESC:Events for UCLA Department of History
REFRESH-INTERVAL;VALUE=DURATION:PT1H
X-Robots-Tag:noindex
X-PUBLISHED-TTL:PT1H
BEGIN:VTIMEZONE
TZID:America/Los_Angeles
BEGIN:DAYLIGHT
TZOFFSETFROM:-0800
TZOFFSETTO:-0700
TZNAME:PDT
DTSTART:20220313T100000
END:DAYLIGHT
BEGIN:STANDARD
TZOFFSETFROM:-0700
TZOFFSETTO:-0800
TZNAME:PST
DTSTART:20221106T090000
END:STANDARD
BEGIN:DAYLIGHT
TZOFFSETFROM:-0800
TZOFFSETTO:-0700
TZNAME:PDT
DTSTART:20230312T100000
END:DAYLIGHT
BEGIN:STANDARD
TZOFFSETFROM:-0700
TZOFFSETTO:-0800
TZNAME:PST
DTSTART:20231105T090000
END:STANDARD
BEGIN:DAYLIGHT
TZOFFSETFROM:-0800
TZOFFSETTO:-0700
TZNAME:PDT
DTSTART:20240310T100000
END:DAYLIGHT
BEGIN:STANDARD
TZOFFSETFROM:-0700
TZOFFSETTO:-0800
TZNAME:PST
DTSTART:20241103T090000
END:STANDARD
END:VTIMEZONE
BEGIN:VEVENT
DTSTART;TZID=America/Los_Angeles:20230522T160000
DTEND;TZID=America/Los_Angeles:20230522T160000
DTSTAMP:20260420T051414
CREATED:20230404T214956Z
LAST-MODIFIED:20230404T214956Z
UID:6932-1684771200-1684771200@history.ucla.edu
SUMMARY:Jane Moon\, M.D.\, History of Science\, "Pushing the Borders of Consciousness: A History of Ketamine and Dissociative Anesthesia"
DESCRIPTION:RSVP for in person attendance here.  \nRSVP for Zoom link here. 
URL:https://history.ucla.edu/event/jane-moon-m-d-history-of-science-pushing-the-borders-of-consciousness-a-history-of-ketamine-and-dissociative-anesthesia/
LOCATION:5288 Bunche Hall
END:VEVENT
END:VCALENDAR