BEGIN:VCALENDAR
VERSION:2.0
PRODID:-//UCLA Department of History - ECPv6.15.17.1//NONSGML v1.0//EN
CALSCALE:GREGORIAN
METHOD:PUBLISH
X-WR-CALNAME:UCLA Department of History
X-ORIGINAL-URL:https://history.ucla.edu
X-WR-CALDESC:Events for UCLA Department of History
REFRESH-INTERVAL;VALUE=DURATION:PT1H
X-Robots-Tag:noindex
X-PUBLISHED-TTL:PT1H
BEGIN:VTIMEZONE
TZID:America/Los_Angeles
BEGIN:DAYLIGHT
TZOFFSETFROM:-0800
TZOFFSETTO:-0700
TZNAME:PDT
DTSTART:20220313T100000
END:DAYLIGHT
BEGIN:STANDARD
TZOFFSETFROM:-0700
TZOFFSETTO:-0800
TZNAME:PST
DTSTART:20221106T090000
END:STANDARD
BEGIN:DAYLIGHT
TZOFFSETFROM:-0800
TZOFFSETTO:-0700
TZNAME:PDT
DTSTART:20230312T100000
END:DAYLIGHT
BEGIN:STANDARD
TZOFFSETFROM:-0700
TZOFFSETTO:-0800
TZNAME:PST
DTSTART:20231105T090000
END:STANDARD
BEGIN:DAYLIGHT
TZOFFSETFROM:-0800
TZOFFSETTO:-0700
TZNAME:PDT
DTSTART:20240310T100000
END:DAYLIGHT
BEGIN:STANDARD
TZOFFSETFROM:-0700
TZOFFSETTO:-0800
TZNAME:PST
DTSTART:20241103T090000
END:STANDARD
END:VTIMEZONE
BEGIN:VEVENT
DTSTART;TZID=America/Los_Angeles:20231019T120000
DTEND;TZID=America/Los_Angeles:20231019T120000
DTSTAMP:20260420T033620
CREATED:20231013T184949Z
LAST-MODIFIED:20231014T000626Z
UID:10248-1697716800-1697716800@history.ucla.edu
SUMMARY:Tanya Bride (UCLA History) - Trails of Hoof and Pawprints
DESCRIPTION:Please join us for our first lecture series of the 23-24 academic year featuring Tanya Bride who will speak on “Trails of Hoof and Pawprints: Tracing human-animal relations in colonial Mexico through the religious courts and Relaciones Geográficas”. \nPlease note:  This event will only be held via Zoom.  It will not be in person. \nThis event is part of the UCLA History Department Atlantic History lecture series.
URL:https://history.ucla.edu/event/tanya-bride-ucla-history-trails-of-hoof-and-pawprints/
LOCATION:Zoom
CATEGORIES:Atlantic History Lecture Series
END:VEVENT
END:VCALENDAR