BEGIN:VCALENDAR
VERSION:2.0
PRODID:-//UCLA Department of History - ECPv6.15.17.1//NONSGML v1.0//EN
CALSCALE:GREGORIAN
METHOD:PUBLISH
X-WR-CALNAME:UCLA Department of History
X-ORIGINAL-URL:https://history.ucla.edu
X-WR-CALDESC:Events for UCLA Department of History
REFRESH-INTERVAL;VALUE=DURATION:PT1H
X-Robots-Tag:noindex
X-PUBLISHED-TTL:PT1H
BEGIN:VTIMEZONE
TZID:America/Los_Angeles
BEGIN:DAYLIGHT
TZOFFSETFROM:-0800
TZOFFSETTO:-0700
TZNAME:PDT
DTSTART:20220313T100000
END:DAYLIGHT
BEGIN:STANDARD
TZOFFSETFROM:-0700
TZOFFSETTO:-0800
TZNAME:PST
DTSTART:20221106T090000
END:STANDARD
BEGIN:DAYLIGHT
TZOFFSETFROM:-0800
TZOFFSETTO:-0700
TZNAME:PDT
DTSTART:20230312T100000
END:DAYLIGHT
BEGIN:STANDARD
TZOFFSETFROM:-0700
TZOFFSETTO:-0800
TZNAME:PST
DTSTART:20231105T090000
END:STANDARD
BEGIN:DAYLIGHT
TZOFFSETFROM:-0800
TZOFFSETTO:-0700
TZNAME:PDT
DTSTART:20240310T100000
END:DAYLIGHT
BEGIN:STANDARD
TZOFFSETFROM:-0700
TZOFFSETTO:-0800
TZNAME:PST
DTSTART:20241103T090000
END:STANDARD
END:VTIMEZONE
BEGIN:VEVENT
DTSTART;TZID=America/Los_Angeles:20231026T160000
DTEND;TZID=America/Los_Angeles:20231026T160000
DTSTAMP:20260420T033703
CREATED:20231017T174428Z
LAST-MODIFIED:20231017T174436Z
UID:10502-1698336000-1698336000@history.ucla.edu
SUMMARY:Andrew Denning\, "Automotive Empire: How Cars and Roads Fueled European Colonialism in Africa"
DESCRIPTION:
URL:https://history.ucla.edu/event/andrew-denning-automotive-empire-how-cars-and-roads-fueled-european-colonialism-in-africa/
CATEGORIES:European History Colloquium
ATTACH;FMTTYPE=image/png:https://history.ucla.edu/wp-content/uploads/2023/10/UCLA-EUROPEAN-HISTORY-COLLOQUIUM-1.png
END:VEVENT
END:VCALENDAR