BEGIN:VCALENDAR
VERSION:2.0
PRODID:-//UCLA Department of History - ECPv6.15.17.1//NONSGML v1.0//EN
CALSCALE:GREGORIAN
METHOD:PUBLISH
X-ORIGINAL-URL:https://history.ucla.edu
X-WR-CALDESC:Events for UCLA Department of History
REFRESH-INTERVAL;VALUE=DURATION:PT1H
X-Robots-Tag:noindex
X-PUBLISHED-TTL:PT1H
BEGIN:VTIMEZONE
TZID:America/Los_Angeles
BEGIN:DAYLIGHT
TZOFFSETFROM:-0800
TZOFFSETTO:-0700
TZNAME:PDT
DTSTART:20220313T100000
END:DAYLIGHT
BEGIN:STANDARD
TZOFFSETFROM:-0700
TZOFFSETTO:-0800
TZNAME:PST
DTSTART:20221106T090000
END:STANDARD
BEGIN:DAYLIGHT
TZOFFSETFROM:-0800
TZOFFSETTO:-0700
TZNAME:PDT
DTSTART:20230312T100000
END:DAYLIGHT
BEGIN:STANDARD
TZOFFSETFROM:-0700
TZOFFSETTO:-0800
TZNAME:PST
DTSTART:20231105T090000
END:STANDARD
BEGIN:DAYLIGHT
TZOFFSETFROM:-0800
TZOFFSETTO:-0700
TZNAME:PDT
DTSTART:20240310T100000
END:DAYLIGHT
BEGIN:STANDARD
TZOFFSETFROM:-0700
TZOFFSETTO:-0800
TZNAME:PST
DTSTART:20241103T090000
END:STANDARD
END:VTIMEZONE
BEGIN:VEVENT
DTSTART;TZID=America/Los_Angeles:20231115T160000
DTEND;TZID=America/Los_Angeles:20231115T180000
DTSTAMP:20260420T031721
CREATED:20231026T220824Z
LAST-MODIFIED:20231113T232941Z
UID:10757-1700064000-1700071200@history.ucla.edu
SUMMARY:Jamie Kreiner (University of Georgia)\, "Vistas of the Mind: Cognitive Ethics and Practice in Late Antique and Early Medieval Monasticism"
DESCRIPTION: 
URL:https://history.ucla.edu/event/jamie-kreiner-university-of-georgia/
LOCATION:6275 Bunche Hall
CATEGORIES:Candidate Job Talk
ATTACH;FMTTYPE=image/png:https://history.ucla.edu/wp-content/uploads/2023/10/image001-2.png
END:VEVENT
END:VCALENDAR