BEGIN:VCALENDAR
VERSION:2.0
PRODID:-//UCLA Department of History - ECPv6.15.17.1//NONSGML v1.0//EN
CALSCALE:GREGORIAN
METHOD:PUBLISH
X-ORIGINAL-URL:https://history.ucla.edu
X-WR-CALDESC:Events for UCLA Department of History
REFRESH-INTERVAL;VALUE=DURATION:PT1H
X-Robots-Tag:noindex
X-PUBLISHED-TTL:PT1H
BEGIN:VTIMEZONE
TZID:America/Los_Angeles
BEGIN:DAYLIGHT
TZOFFSETFROM:-0800
TZOFFSETTO:-0700
TZNAME:PDT
DTSTART:20220313T100000
END:DAYLIGHT
BEGIN:STANDARD
TZOFFSETFROM:-0700
TZOFFSETTO:-0800
TZNAME:PST
DTSTART:20221106T090000
END:STANDARD
BEGIN:DAYLIGHT
TZOFFSETFROM:-0800
TZOFFSETTO:-0700
TZNAME:PDT
DTSTART:20230312T100000
END:DAYLIGHT
BEGIN:STANDARD
TZOFFSETFROM:-0700
TZOFFSETTO:-0800
TZNAME:PST
DTSTART:20231105T090000
END:STANDARD
BEGIN:DAYLIGHT
TZOFFSETFROM:-0800
TZOFFSETTO:-0700
TZNAME:PDT
DTSTART:20240310T100000
END:DAYLIGHT
BEGIN:STANDARD
TZOFFSETFROM:-0700
TZOFFSETTO:-0800
TZNAME:PST
DTSTART:20241103T090000
END:STANDARD
END:VTIMEZONE
BEGIN:VEVENT
DTSTART;TZID=America/Los_Angeles:20231130T120000
DTEND;TZID=America/Los_Angeles:20231130T133000
DTSTAMP:20260420T051325
CREATED:20231013T190004Z
LAST-MODIFIED:20231026T184214Z
UID:10270-1701345600-1701351000@history.ucla.edu
SUMMARY:Justin Dunnavant (UCLA Anthropology) - Denmark Vesey: A Caribbean Revolution in South Carolina
DESCRIPTION:The Atlantic History Colloquium generates innovative scholarship on the relations linking Africa\, Europe and the Americas by investigating the expansion of markets during the slave trade; the production of literary texts and forms of historical memory; the politics of religious dissent and conversion; the growth of colonial science and cartography; Native American ethnogenesis; the rise of abolitionist and Pan-African ideologies; and the dynamics of race\, gender and creolization throughout the Atlantic world. \nPlease visit UCLA Atlantic History for more information and a complete schedule of events in 2023.
URL:https://history.ucla.edu/event/justin-dunnavant-ucla-anthropology-denmark-vesey-a-caribbean-revolution-in-south-carolina/
LOCATION:Bunche 6275 & Zoom
CATEGORIES:Atlantic History Lecture Series
ATTACH;FMTTYPE=image/jpeg:https://history.ucla.edu/wp-content/uploads/2023/10/Atlantic-Talk_Justin-Dunnavant_30Nov2023.jpg
END:VEVENT
END:VCALENDAR