BEGIN:VCALENDAR
VERSION:2.0
PRODID:-//UCLA Department of History - ECPv6.15.17.1//NONSGML v1.0//EN
CALSCALE:GREGORIAN
METHOD:PUBLISH
X-ORIGINAL-URL:https://history.ucla.edu
X-WR-CALDESC:Events for UCLA Department of History
REFRESH-INTERVAL;VALUE=DURATION:PT1H
X-Robots-Tag:noindex
X-PUBLISHED-TTL:PT1H
BEGIN:VTIMEZONE
TZID:America/Los_Angeles
BEGIN:DAYLIGHT
TZOFFSETFROM:-0800
TZOFFSETTO:-0700
TZNAME:PDT
DTSTART:20240310T100000
END:DAYLIGHT
BEGIN:STANDARD
TZOFFSETFROM:-0700
TZOFFSETTO:-0800
TZNAME:PST
DTSTART:20241103T090000
END:STANDARD
BEGIN:DAYLIGHT
TZOFFSETFROM:-0800
TZOFFSETTO:-0700
TZNAME:PDT
DTSTART:20250309T100000
END:DAYLIGHT
BEGIN:STANDARD
TZOFFSETFROM:-0700
TZOFFSETTO:-0800
TZNAME:PST
DTSTART:20251102T090000
END:STANDARD
BEGIN:DAYLIGHT
TZOFFSETFROM:-0800
TZOFFSETTO:-0700
TZNAME:PDT
DTSTART:20260308T100000
END:DAYLIGHT
BEGIN:STANDARD
TZOFFSETFROM:-0700
TZOFFSETTO:-0800
TZNAME:PST
DTSTART:20261101T090000
END:STANDARD
END:VTIMEZONE
BEGIN:VEVENT
DTSTART;TZID=America/Los_Angeles:20250113T160000
DTEND;TZID=America/Los_Angeles:20250113T170000
DTSTAMP:20260419T053033
CREATED:20250106T211845Z
LAST-MODIFIED:20250113T190505Z
UID:15347-1736784000-1736787600@history.ucla.edu
SUMMARY:CANCELLED - Nydia Pineda de Ávila (University of California\, San Diego): “The Art and Politics of Early Modern Lunar Maps”
DESCRIPTION:This event has been cancelled. 
URL:https://history.ucla.edu/event/nydia-pineda-de-avila-university-of-california-san-diego-the-art-and-politics-of-early-modern-lunar-maps/
LOCATION:5288 Bunche Hall
CATEGORIES:History of Science Colloquium
END:VEVENT
BEGIN:VEVENT
DTSTART;TZID=America/Los_Angeles:20250113T160000
DTEND;TZID=America/Los_Angeles:20250113T180000
DTSTAMP:20260419T053033
CREATED:20250110T220704Z
LAST-MODIFIED:20250113T192529Z
UID:15394-1736784000-1736791200@history.ucla.edu
SUMMARY:CANCELLED - Charles-François Mathis (Panthéon-Sorbonne University): "Energy Cultures and Environmental Transition: Tracing the Roots of Our Imaginaries of Power"
DESCRIPTION:This event has been cancelled.
URL:https://history.ucla.edu/event/charles-francois-mathis-pantheon-sorbonne-university-energy-cultures-and-environmental-transition-tracing-the-roots-of-our-imaginaries-of-power/
LOCATION:6275 Bunche Hall
CATEGORIES:European History Colloquium
ATTACH;FMTTYPE=image/jpeg:https://history.ucla.edu/wp-content/uploads/2025/01/Mathis-Poster.jpg
END:VEVENT
END:VCALENDAR