BEGIN:VCALENDAR
VERSION:2.0
PRODID:-//UCLA Department of History - ECPv6.15.17.1//NONSGML v1.0//EN
CALSCALE:GREGORIAN
METHOD:PUBLISH
X-WR-CALNAME:UCLA Department of History
X-ORIGINAL-URL:https://history.ucla.edu
X-WR-CALDESC:Events for UCLA Department of History
REFRESH-INTERVAL;VALUE=DURATION:PT1H
X-Robots-Tag:noindex
X-PUBLISHED-TTL:PT1H
BEGIN:VTIMEZONE
TZID:America/Los_Angeles
BEGIN:DAYLIGHT
TZOFFSETFROM:-0800
TZOFFSETTO:-0700
TZNAME:PDT
DTSTART:20250309T100000
END:DAYLIGHT
BEGIN:STANDARD
TZOFFSETFROM:-0700
TZOFFSETTO:-0800
TZNAME:PST
DTSTART:20251102T090000
END:STANDARD
BEGIN:DAYLIGHT
TZOFFSETFROM:-0800
TZOFFSETTO:-0700
TZNAME:PDT
DTSTART:20260308T100000
END:DAYLIGHT
BEGIN:STANDARD
TZOFFSETFROM:-0700
TZOFFSETTO:-0800
TZNAME:PST
DTSTART:20261101T090000
END:STANDARD
BEGIN:DAYLIGHT
TZOFFSETFROM:-0800
TZOFFSETTO:-0700
TZNAME:PDT
DTSTART:20270314T100000
END:DAYLIGHT
BEGIN:STANDARD
TZOFFSETFROM:-0700
TZOFFSETTO:-0800
TZNAME:PST
DTSTART:20271107T090000
END:STANDARD
END:VTIMEZONE
BEGIN:VEVENT
DTSTART;TZID=America/Los_Angeles:20260422T120000
DTEND;TZID=America/Los_Angeles:20260422T133000
DTSTAMP:20260422T044138
CREATED:20260306T220727Z
LAST-MODIFIED:20260306T220727Z
UID:18242-1776859200-1776864600@history.ucla.edu
SUMMARY:Undergraduate Honors Thesis Workshop
DESCRIPTION:This workshop is designed for students embarking on their honors theses to meet fellow researchers\, hear from students who recently finished their theses successfully\, and learn how to kick off their project successfully. Lunch provided.
URL:https://history.ucla.edu/event/undergraduate-honors-thesis-workshop/
LOCATION:6275 Bunche Hall
CATEGORIES:Events
ATTACH;FMTTYPE=image/png:https://history.ucla.edu/wp-content/uploads/2024/01/Senior-Honors-Thesis-Workshop-flyer-e1772834822151.png
END:VEVENT
BEGIN:VEVENT
DTSTART;TZID=America/Los_Angeles:20260422T170000
DTEND;TZID=America/Los_Angeles:20260422T180000
DTSTAMP:20260422T044138
CREATED:20260416T222838Z
LAST-MODIFIED:20260416T222903Z
UID:18447-1776877200-1776880800@history.ucla.edu
SUMMARY:UCLA European History Colloquium Presents: The Jet Age in Eight Passengers
DESCRIPTION:We are pleased to announce that the next UCLA European History Colloquium will be held on Wednesday\, April 22\, at 5pm in Bunche 10383 and on Zoom. Please note the new location! \nLauren Stokes\, Associate Professor of History at Northwestern University\, will be joining us to speak on “The Jet Age in Eight Passengers.”
URL:https://history.ucla.edu/event/ucla-european-history-colloquium-presents-the-jet-age-in-eight-passengers/
LOCATION:10383 Bunche Hall & Zoom
CATEGORIES:European History Colloquium,Events
ATTACH;FMTTYPE=image/png:https://history.ucla.edu/wp-content/uploads/2026/04/EURO-Stokes-2026.pdf.png
END:VEVENT
END:VCALENDAR