BEGIN:VCALENDAR
VERSION:2.0
PRODID:-//UCLA Department of History - ECPv6.15.17.1//NONSGML v1.0//EN
CALSCALE:GREGORIAN
METHOD:PUBLISH
X-WR-CALNAME:UCLA Department of History
X-ORIGINAL-URL:https://history.ucla.edu
X-WR-CALDESC:Events for UCLA Department of History
REFRESH-INTERVAL;VALUE=DURATION:PT1H
X-Robots-Tag:noindex
X-PUBLISHED-TTL:PT1H
BEGIN:VTIMEZONE
TZID:America/Los_Angeles
BEGIN:DAYLIGHT
TZOFFSETFROM:-0800
TZOFFSETTO:-0700
TZNAME:PDT
DTSTART:20140309T100000
END:DAYLIGHT
BEGIN:STANDARD
TZOFFSETFROM:-0700
TZOFFSETTO:-0800
TZNAME:PST
DTSTART:20141102T090000
END:STANDARD
BEGIN:DAYLIGHT
TZOFFSETFROM:-0800
TZOFFSETTO:-0700
TZNAME:PDT
DTSTART:20150308T100000
END:DAYLIGHT
BEGIN:STANDARD
TZOFFSETFROM:-0700
TZOFFSETTO:-0800
TZNAME:PST
DTSTART:20151101T090000
END:STANDARD
BEGIN:DAYLIGHT
TZOFFSETFROM:-0800
TZOFFSETTO:-0700
TZNAME:PDT
DTSTART:20160313T100000
END:DAYLIGHT
BEGIN:STANDARD
TZOFFSETFROM:-0700
TZOFFSETTO:-0800
TZNAME:PST
DTSTART:20161106T090000
END:STANDARD
BEGIN:DAYLIGHT
TZOFFSETFROM:-0800
TZOFFSETTO:-0700
TZNAME:PDT
DTSTART:20170312T100000
END:DAYLIGHT
BEGIN:STANDARD
TZOFFSETFROM:-0700
TZOFFSETTO:-0800
TZNAME:PST
DTSTART:20171105T090000
END:STANDARD
END:VTIMEZONE
BEGIN:VEVENT
DTSTART;TZID=America/Los_Angeles:20160222T160000
DTEND;TZID=America/Los_Angeles:20160222T160000
DTSTAMP:20260419T072116
CREATED:20211021T021342Z
LAST-MODIFIED:20231102T183044Z
UID:946-1456156800-1456156800@history.ucla.edu
SUMMARY:James Secord - “Global Geology and the Tectonics of Empire”
DESCRIPTION:James Secord is a Professor of History and Philosophy of Science at Cambridge University. His research interests include social history of science since 1750\, life and earth sciences\, and the history of science communication.
URL:https://history.ucla.edu/event/james-secord-global-geology-and-the-tectonics-of-empire/
LOCATION:5288 Bunche Hall
CATEGORIES:History of Science Colloquium
ATTACH;FMTTYPE=image/jpeg:https://history.ucla.edu/wp-content/uploads/2021/10/winter_2016_colloquium_schedule_0.jpg
END:VEVENT
BEGIN:VEVENT
DTSTART;TZID=America/Los_Angeles:20160208T160000
DTEND;TZID=America/Los_Angeles:20160208T160000
DTSTAMP:20260419T072116
CREATED:20211020T223326Z
LAST-MODIFIED:20230829T220012Z
UID:445-1454947200-1454947200@history.ucla.edu
SUMMARY:History of Science Colloquium
DESCRIPTION:Jean Pierre Beaud  (CIRST\, Université de Québec à Montréal) \n“What is a population? Reflections on two Statistical Descriptions of Canada”
URL:https://history.ucla.edu/event/history-of-science-colloquium/
LOCATION:5288 Bunche Hall
CATEGORIES:History of Science Colloquium
ATTACH;FMTTYPE=image/jpeg:https://history.ucla.edu/wp-content/uploads/2021/10/winter_2016_colloquium_schedule-guJfWK.tmp_.jpg
END:VEVENT
BEGIN:VEVENT
DTSTART;TZID=America/Los_Angeles:20160111T160000
DTEND;TZID=America/Los_Angeles:20160111T160000
DTSTAMP:20260419T072116
CREATED:20211020T223341Z
LAST-MODIFIED:20230829T214852Z
UID:449-1452528000-1452528000@history.ucla.edu
SUMMARY:History of Science Colloquium
DESCRIPTION:Matthew Sargent\, Digital Humanities\, University of Southern California:  “Marriage institutions and the formation of cross-cultural knowledge networks in early modern Southeast Asia”
URL:https://history.ucla.edu/event/history-of-science-colloquium-2/
LOCATION:5288 Bunche Hall
CATEGORIES:History of Science Colloquium
END:VEVENT
BEGIN:VEVENT
DTSTART;TZID=America/Los_Angeles:20151117T160000
DTEND;TZID=America/Los_Angeles:20151117T180000
DTSTAMP:20260419T072116
CREATED:20211021T021213Z
LAST-MODIFIED:20230829T213358Z
UID:916-1447776000-1447783200@history.ucla.edu
SUMMARY:“The Immortal Archives: Nineteenth-Century Science Imagines the Future”
DESCRIPTION:Lorraine Daston (MPI-WG\, Berlin). European History Colloquium\, cosponsored by History of Science.
URL:https://history.ucla.edu/event/the-immortal-archives-nineteenth-century-science-imagines-the-future/
CATEGORIES:European History Colloquium,History of Science Colloquium
ATTACH;FMTTYPE=image/jpeg:https://history.ucla.edu/wp-content/uploads/2021/10/daston-kqjMhj.tmp_.jpg
END:VEVENT
END:VCALENDAR