BEGIN:VCALENDAR
VERSION:2.0
PRODID:-//UCLA Department of History - ECPv6.15.17.1//NONSGML v1.0//EN
CALSCALE:GREGORIAN
METHOD:PUBLISH
X-ORIGINAL-URL:https://history.ucla.edu
X-WR-CALDESC:Events for UCLA Department of History
REFRESH-INTERVAL;VALUE=DURATION:PT1H
X-Robots-Tag:noindex
X-PUBLISHED-TTL:PT1H
BEGIN:VTIMEZONE
TZID:America/Los_Angeles
BEGIN:DAYLIGHT
TZOFFSETFROM:-0800
TZOFFSETTO:-0700
TZNAME:PDT
DTSTART:20150308T100000
END:DAYLIGHT
BEGIN:STANDARD
TZOFFSETFROM:-0700
TZOFFSETTO:-0800
TZNAME:PST
DTSTART:20151101T090000
END:STANDARD
BEGIN:DAYLIGHT
TZOFFSETFROM:-0800
TZOFFSETTO:-0700
TZNAME:PDT
DTSTART:20160313T100000
END:DAYLIGHT
BEGIN:STANDARD
TZOFFSETFROM:-0700
TZOFFSETTO:-0800
TZNAME:PST
DTSTART:20161106T090000
END:STANDARD
BEGIN:DAYLIGHT
TZOFFSETFROM:-0800
TZOFFSETTO:-0700
TZNAME:PDT
DTSTART:20170312T100000
END:DAYLIGHT
BEGIN:STANDARD
TZOFFSETFROM:-0700
TZOFFSETTO:-0800
TZNAME:PST
DTSTART:20171105T090000
END:STANDARD
BEGIN:DAYLIGHT
TZOFFSETFROM:-0800
TZOFFSETTO:-0700
TZNAME:PDT
DTSTART:20180311T100000
END:DAYLIGHT
BEGIN:STANDARD
TZOFFSETFROM:-0700
TZOFFSETTO:-0800
TZNAME:PST
DTSTART:20181104T090000
END:STANDARD
BEGIN:DAYLIGHT
TZOFFSETFROM:-0800
TZOFFSETTO:-0700
TZNAME:PDT
DTSTART:20190310T100000
END:DAYLIGHT
BEGIN:STANDARD
TZOFFSETFROM:-0700
TZOFFSETTO:-0800
TZNAME:PST
DTSTART:20191103T090000
END:STANDARD
END:VTIMEZONE
BEGIN:VEVENT
DTSTART;TZID=America/Los_Angeles:20180205T143000
DTEND;TZID=America/Los_Angeles:20180205T143000
DTSTAMP:20260419T054223
CREATED:20211020T224324Z
LAST-MODIFIED:20211021T025025Z
UID:603-1517841000-1517841000@history.ucla.edu
SUMMARY:Peter Dear - "Who Cares about the Scientific Revolution?"
DESCRIPTION:The speaker for this colloquium is Peter Dear from Cornell University.
URL:https://history.ucla.edu/event/peter-dear-who-cares-about-the-scientific-revolution/
CATEGORIES:History of Science Colloquium
END:VEVENT
BEGIN:VEVENT
DTSTART;TZID=America/Los_Angeles:20180129T160000
DTEND;TZID=America/Los_Angeles:20180129T160000
DTSTAMP:20260419T054223
CREATED:20211020T224324Z
LAST-MODIFIED:20211021T025025Z
UID:602-1517241600-1517241600@history.ucla.edu
SUMMARY:"Blood Purity and Scientific Independence in South Korea\, 1926-1975"
DESCRIPTION:The speaker for this colloquium is Jaehwan Hyun from the University of California\, Los Angeles and Seoul National University.
URL:https://history.ucla.edu/event/blood-purity-and-scientific-independence-in-south-korea-1926-1975/
CATEGORIES:History of Science Colloquium
END:VEVENT
BEGIN:VEVENT
DTSTART;TZID=America/Los_Angeles:20180108T160000
DTEND;TZID=America/Los_Angeles:20180108T160000
DTSTAMP:20260419T054223
CREATED:20211020T224323Z
LAST-MODIFIED:20211021T025025Z
UID:601-1515427200-1515427200@history.ucla.edu
SUMMARY:"Care in the Impossible Science of Gene x Environment Interactions: Penrose to Postgenomics"
DESCRIPTION:The speaker for this colloquium is Michael Fortun from the University of California\, Irvine.
URL:https://history.ucla.edu/event/care-in-the-impossible-science-of-gene-x-environment-interactions-penrose-to-postgenomics/
CATEGORIES:History of Science Colloquium
END:VEVENT
BEGIN:VEVENT
DTSTART;TZID=America/Los_Angeles:20171120T160000
DTEND;TZID=America/Los_Angeles:20171120T160000
DTSTAMP:20260419T054223
CREATED:20211021T024352Z
LAST-MODIFIED:20231103T225907Z
UID:1133-1511193600-1511193600@history.ucla.edu
SUMMARY:“Filming and Writing Science”
DESCRIPTION:The speaker for this colloquium is Peter Galison from Harvard University. \nPlease note that this event will be held in the Royce Hall Member Lounge.  Access is at the back\, north side of Royce Hall on the upper loading dock\, facing parking structure 5 and Rolfe Hall.  Enter through the door with the awning that says Artist Entrance.
URL:https://history.ucla.edu/event/filming-and-writing-science/
LOCATION:Royce Hall Member Lounge
CATEGORIES:History of Science Colloquium
END:VEVENT
BEGIN:VEVENT
DTSTART;TZID=America/Los_Angeles:20171113T160000
DTEND;TZID=America/Los_Angeles:20171113T160000
DTSTAMP:20260419T054223
CREATED:20211020T224208Z
LAST-MODIFIED:20211021T024337Z
UID:575-1510588800-1510588800@history.ucla.edu
SUMMARY:"Collecting the World: Hans Sloane and the Origin of the British Museum"
DESCRIPTION:The speaker for this colloquium is James Delbourgo from Rutgers University.
URL:https://history.ucla.edu/event/collecting-the-world-hans-sloane-and-the-origin-of-the-british-museum/
CATEGORIES:History of Science Colloquium
END:VEVENT
BEGIN:VEVENT
DTSTART;TZID=America/Los_Angeles:20171030T160000
DTEND;TZID=America/Los_Angeles:20171030T160000
DTSTAMP:20260419T054223
CREATED:20211020T224208Z
LAST-MODIFIED:20211021T024337Z
UID:574-1509379200-1509379200@history.ucla.edu
SUMMARY:"Tuning the world. A global history of acoustics at the crossroads of aesthetics\, politics\, science and industry (1834-1939)"
DESCRIPTION:The speaker for this colloquium is Fanny Gribenski\, a Huntington Library Fellow from the Université d’Évry Val d’Essonne.
URL:https://history.ucla.edu/event/tuning-the-world-a-global-history-of-acoustics-at-the-crossroads-of-aesthetics-politics-science-and-industry-1834-1939/
CATEGORIES:History of Science Colloquium
END:VEVENT
BEGIN:VEVENT
DTSTART;TZID=America/Los_Angeles:20171009T160000
DTEND;TZID=America/Los_Angeles:20171009T160000
DTSTAMP:20260419T054223
CREATED:20211020T224154Z
LAST-MODIFIED:20211021T024337Z
UID:573-1507564800-1507564800@history.ucla.edu
SUMMARY:"Teaching the Teacher about Science: The California State Normal School"
DESCRIPTION:Speaker for this colloquium is Michael Weismeyer\, a graduate student in the UCLA Department of History.
URL:https://history.ucla.edu/event/teaching-the-teacher-about-science-the-california-state-normal-school/
CATEGORIES:History of Science Colloquium
END:VEVENT
BEGIN:VEVENT
DTSTART;TZID=America/Los_Angeles:20171006T103000
DTEND;TZID=America/Los_Angeles:20171006T160000
DTSTAMP:20260419T054223
CREATED:20211020T224153Z
LAST-MODIFIED:20231103T232856Z
UID:572-1507285800-1507305600@history.ucla.edu
SUMMARY:Workshop: Bureaucratic Data: Knowledge Production across Science\, Commerce\, and the State.
DESCRIPTION:Speakers for this History of Science Workshop include: \nMaura Dykstra (Caltech)\, “The legal\, the illegal\, and the un-legal archive in late imperial China.” \nDevin Fitzgerald (Harvard)\, “The Creation of the Qing ‘Open Archive.” \nRenee Raphael (UC Irvine)\, “Purposeful bureaucratic disorder in Philip II’s Empire?: Why Juan de Hinestrosa thought his Relation of the discovery of New Potosi would be read.” \nChelsea Zi Wang (Claremont McKenna)\, “Synchronizing Information in Premodern Bureaucracies: The Case of Imperial China.”
URL:https://history.ucla.edu/event/workshop-bureaucratic-data-knowledge-production-across-science-commerce-and-the-state/
CATEGORIES:History of Science Colloquium
END:VEVENT
BEGIN:VEVENT
DTSTART;TZID=America/Los_Angeles:20171002T160000
DTEND;TZID=America/Los_Angeles:20171002T160000
DTSTAMP:20260419T054223
CREATED:20211020T224153Z
LAST-MODIFIED:20211021T024337Z
UID:571-1506960000-1506960000@history.ucla.edu
SUMMARY:"Baking Powder Ward: The Cutthroat Fight that Revolutionized Cooking"
DESCRIPTION:The speaker for this colloquium is Linda Civitello\, a recent PhD candidate in the UCLA Department of History.
URL:https://history.ucla.edu/event/baking-powder-ward-the-cutthroat-fight-that-revolutionized-cooking/
CATEGORIES:History of Science Colloquium
END:VEVENT
BEGIN:VEVENT
DTSTART;TZID=America/Los_Angeles:20170605T160000
DTEND;TZID=America/Los_Angeles:20170605T180000
DTSTAMP:20260419T054223
CREATED:20211021T023709Z
LAST-MODIFIED:20231104T002703Z
UID:1095-1496678400-1496685600@history.ucla.edu
SUMMARY:Eric Scerri - “A Tale of Seven Scientists”
DESCRIPTION:
URL:https://history.ucla.edu/event/eric-scerri-a-tale-of-seven-scientists/
LOCATION:5288 Bunche Hall
CATEGORIES:History of Science Colloquium
ATTACH;FMTTYPE=image/jpeg:https://history.ucla.edu/wp-content/uploads/2021/10/spring_2017_colloquium_schedule_3-q1hoOV.tmp_.jpg
END:VEVENT
BEGIN:VEVENT
DTSTART;TZID=America/Los_Angeles:20170522T160000
DTEND;TZID=America/Los_Angeles:20170522T180000
DTSTAMP:20260419T054223
CREATED:20211021T023654Z
LAST-MODIFIED:20231104T002304Z
UID:1089-1495468800-1495476000@history.ucla.edu
SUMMARY:Sarah Tracey - “Taste No. 5: Imperial Japan\, Protein Chemistry\, and Race-making with Monosodium Glutamate (MSG)”
DESCRIPTION:
URL:https://history.ucla.edu/event/sarah-tracey-taste-no-5-imperial-japan-protein-chemistry-and-race-making-with-monosodium-glutamate-msg/
LOCATION:5288 Bunche Hall
CATEGORIES:History of Science Colloquium
ATTACH;FMTTYPE=image/jpeg:https://history.ucla.edu/wp-content/uploads/2021/10/spring_2017_colloquium_schedule_2-FulI0B.tmp_.jpg
END:VEVENT
BEGIN:VEVENT
DTSTART;TZID=America/Los_Angeles:20170508T160000
DTEND;TZID=America/Los_Angeles:20170508T180000
DTSTAMP:20260419T054223
CREATED:20211021T023654Z
LAST-MODIFIED:20231104T000801Z
UID:1088-1494259200-1494266400@history.ucla.edu
SUMMARY:Peter Sachs Collopi - “Noosphere to Videosphere: Evolutionary Panpsychism from Henri Bergson to Media Art”
DESCRIPTION:
URL:https://history.ucla.edu/event/peter-sachs-collopi-noosphere-to-videosphere-evolutionary-panpsychism-from-henri-bergson-to-media-art/
LOCATION:5288 Bunche Hall
CATEGORIES:History of Science Colloquium
ATTACH;FMTTYPE=image/jpeg:https://history.ucla.edu/wp-content/uploads/2021/10/spring_2017_colloquium_schedule_1-Ud5l06.tmp_.jpg
END:VEVENT
BEGIN:VEVENT
DTSTART;TZID=America/Los_Angeles:20170424T160000
DTEND;TZID=America/Los_Angeles:20170424T180000
DTSTAMP:20260419T054223
CREATED:20211021T023654Z
LAST-MODIFIED:20231103T235614Z
UID:1087-1493049600-1493056800@history.ucla.edu
SUMMARY:Sarah Ehlers - “Sleeping Sickness Research in Colonial Africa 1900-1950: Biomedical Knowledge Production between Metropolitan Laboratories and Colonial Camps”
DESCRIPTION:
URL:https://history.ucla.edu/event/sarah-ehlers-sleeping-sickness-research-in-colonial-africa-1900-1950-biomedical-knowledge-production-between-metropolitan-laboratories-and-colonial-camps/
LOCATION:5288 Bunche Hall
CATEGORIES:History of Science Colloquium
ATTACH;FMTTYPE=image/jpeg:https://history.ucla.edu/wp-content/uploads/2021/10/spring_2017_colloquium_schedule_0-kSPtDc.tmp_.jpg
END:VEVENT
BEGIN:VEVENT
DTSTART;TZID=America/Los_Angeles:20170414T093000
DTEND;TZID=America/Los_Angeles:20170414T170000
DTSTAMP:20260419T054223
CREATED:20211020T224039Z
LAST-MODIFIED:20231103T235256Z
UID:547-1492162200-1492189200@history.ucla.edu
SUMMARY:Robin D.G. Kelley - "Contexts of Crisists: Danger\, Opportunity\, and the Unknown"
DESCRIPTION:
URL:https://history.ucla.edu/event/robin-d-g-kelley-contexts-of-crisists-danger-opportunity-and-the-unknown/
LOCATION:Charles E. Young Research Library\, Main Conference Room
CATEGORIES:History of Science Colloquium
ATTACH;FMTTYPE=image/jpeg:https://history.ucla.edu/wp-content/uploads/2021/10/2017_ucla_hgsa_conference_flyer_003-QqBUWo.tmp_.jpg
END:VEVENT
BEGIN:VEVENT
DTSTART;TZID=America/Los_Angeles:20170410T160000
DTEND;TZID=America/Los_Angeles:20170410T180000
DTSTAMP:20260419T054223
CREATED:20211021T023654Z
LAST-MODIFIED:20231103T235031Z
UID:1086-1491840000-1491847200@history.ucla.edu
SUMMARY:Jan-Gerrit Schuurman\, “Description and Experience: Why Representation Strategies Matter: From Early Renaissance and 17th Century Still-Life Painting to 21st Century Cancer Screening”
DESCRIPTION:
URL:https://history.ucla.edu/event/jan-gerrit-schuurman-description-and-experience-why-representation-strategies-matter-from-early-renaissance-and-17th-century-still-life-painting-to-21st-century-cancer-screening/
LOCATION:5288 Bunche Hall
CATEGORIES:History of Science Colloquium
ATTACH;FMTTYPE=image/jpeg:https://history.ucla.edu/wp-content/uploads/2021/10/spring_2017_colloquium_schedule-MpYZQ5.tmp_.jpg
END:VEVENT
BEGIN:VEVENT
DTSTART;TZID=America/Los_Angeles:20170313T160000
DTEND;TZID=America/Los_Angeles:20170313T180000
DTSTAMP:20260419T054223
CREATED:20211021T023059Z
LAST-MODIFIED:20231103T234619Z
UID:1051-1489420800-1489428000@history.ucla.edu
SUMMARY:Samuel Redman - “Every Last Trace: Bone Collecting and Salvage Anthropology”
DESCRIPTION:
URL:https://history.ucla.edu/event/samuel-redman-every-last-trace-bone-collecting-and-salvage-anthropology/
LOCATION:5288 Bunche Hall
CATEGORIES:History of Science Colloquium
END:VEVENT
BEGIN:VEVENT
DTSTART;TZID=America/Los_Angeles:20170306T160000
DTEND;TZID=America/Los_Angeles:20170306T180000
DTSTAMP:20260419T054223
CREATED:20211021T023059Z
LAST-MODIFIED:20231103T234318Z
UID:1049-1488816000-1488823200@history.ucla.edu
SUMMARY:David Barnes - “Rethinking Care and Cure\, from Typhus in 1836 to Ebola in 2014"
DESCRIPTION:
URL:https://history.ucla.edu/event/david-barnes-rethinking-care-and-cure-from-typhus-in-1836-to-ebola-in-2014/
LOCATION:5288 Bunche Hall
CATEGORIES:History of Science Colloquium
END:VEVENT
BEGIN:VEVENT
DTSTART;TZID=America/Los_Angeles:20170227T160000
DTEND;TZID=America/Los_Angeles:20170227T180000
DTSTAMP:20260419T054223
CREATED:20211021T023059Z
LAST-MODIFIED:20231103T233209Z
UID:1048-1488211200-1488218400@history.ucla.edu
SUMMARY:Dana Simmons - “Impostor Syndrome\, a Reparative History”
DESCRIPTION:
URL:https://history.ucla.edu/event/dana-simmons-impostor-syndrome-a-reparative-history/
LOCATION:5288 Bunche Hall
CATEGORIES:History of Science Colloquium
END:VEVENT
BEGIN:VEVENT
DTSTART;TZID=America/Los_Angeles:20170213T183000
DTEND;TZID=America/Los_Angeles:20170213T203000
DTSTAMP:20260419T054223
CREATED:20211021T023059Z
LAST-MODIFIED:20231103T230533Z
UID:1047-1487010600-1487017800@history.ucla.edu
SUMMARY:Matthew Hunter - “Space\, Time\, and Chemistry: Making and Defacing Enlightenment Photography” Perloff Hall\, “Decafé”
DESCRIPTION:
URL:https://history.ucla.edu/event/matthew-hunter-space-time-and-chemistry-making-and-defacing-enlightenment-photography-perloff-hall-decafe/
LOCATION:Architecture and Urban Planning
CATEGORIES:History of Science Colloquium
END:VEVENT
BEGIN:VEVENT
DTSTART;TZID=America/Los_Angeles:20170206T160000
DTEND;TZID=America/Los_Angeles:20170206T180000
DTSTAMP:20260419T054223
CREATED:20211021T023059Z
LAST-MODIFIED:20231103T230159Z
UID:1046-1486396800-1486404000@history.ucla.edu
SUMMARY:Elena Aranova\, “Bridging Biology and Geophysics in 1970s California:  Using Animal as Sensors in the US Geological Survey’s Earthquake Prediction Study”
DESCRIPTION:
URL:https://history.ucla.edu/event/elena-aranova-bridging-biology-and-geophysics-in-1970s-california-using-animal-as-sensors-in-the-us-geological-surveys-earthquake-prediction-study/
LOCATION:5288 Bunche Hall
CATEGORIES:History of Science Colloquium
END:VEVENT
BEGIN:VEVENT
DTSTART;TZID=America/Los_Angeles:20170123T160000
DTEND;TZID=America/Los_Angeles:20170123T180000
DTSTAMP:20260419T054223
CREATED:20211021T023042Z
LAST-MODIFIED:20211021T023042Z
UID:1045-1485187200-1485194400@history.ucla.edu
SUMMARY:Amir Alexander - “A Space for Free Men: The Cartesian Landscape of America.”
DESCRIPTION:
URL:https://history.ucla.edu/event/amir-alexander-a-space-for-free-men-the-cartesian-landscape-of-america/
CATEGORIES:History of Science Colloquium
END:VEVENT
BEGIN:VEVENT
DTSTART;TZID=America/Los_Angeles:20161128T160000
DTEND;TZID=America/Los_Angeles:20161128T180000
DTSTAMP:20260419T054223
CREATED:20211021T022958Z
LAST-MODIFIED:20231102T234444Z
UID:1024-1480348800-1480356000@history.ucla.edu
SUMMARY:Hippolyte Goux- “Class and Calculation: Liberalism and Market Technologies in 19th century France”
DESCRIPTION:
URL:https://history.ucla.edu/event/hippolyte-goux-class-and-calculation-liberalism-and-market-technologies-in-19th-century-france/
CATEGORIES:History of Science Colloquium
END:VEVENT
BEGIN:VEVENT
DTSTART;TZID=America/Los_Angeles:20161121T160000
DTEND;TZID=America/Los_Angeles:20161121T180000
DTSTAMP:20260419T054223
CREATED:20211021T022958Z
LAST-MODIFIED:20231102T234330Z
UID:1022-1479744000-1479751200@history.ucla.edu
SUMMARY:Andrew Mendelsohn-“Criticism and the Growth of Method: Autopsy\, 1650-1850"
DESCRIPTION:
URL:https://history.ucla.edu/event/andrew-mendelsohn-criticism-and-the-growth-of-method-autopsy-1650-1850/
CATEGORIES:History of Science Colloquium
END:VEVENT
BEGIN:VEVENT
DTSTART;TZID=America/Los_Angeles:20161118T083000
DTEND;TZID=America/Los_Angeles:20161119T170000
DTSTAMP:20260419T054223
CREATED:20211020T223838Z
LAST-MODIFIED:20231102T234158Z
UID:504-1479457800-1479574800@history.ucla.edu
SUMMARY:Histories of Data and the Database
DESCRIPTION:
URL:https://history.ucla.edu/event/histories-of-data-and-the-database/
CATEGORIES:History of Science Colloquium
ATTACH;FMTTYPE=image/jpeg:https://history.ucla.edu/wp-content/uploads/2021/10/2997_huntlib_data_annc_r1_p1-GWZtAW.tmp_-scaled.jpg
END:VEVENT
BEGIN:VEVENT
DTSTART;TZID=America/Los_Angeles:20161031T160000
DTEND;TZID=America/Los_Angeles:20161031T180000
DTSTAMP:20260419T054223
CREATED:20211021T022958Z
LAST-MODIFIED:20231102T233904Z
UID:1021-1477929600-1477936800@history.ucla.edu
SUMMARY:Ted Porter -“Turning the Tables on Degeneration”
DESCRIPTION:
URL:https://history.ucla.edu/event/ted-porter-turning-the-tables-on-degeneration/
CATEGORIES:History of Science Colloquium
END:VEVENT
BEGIN:VEVENT
DTSTART;TZID=America/Los_Angeles:20161024T160000
DTEND;TZID=America/Los_Angeles:20161024T180000
DTSTAMP:20260419T054223
CREATED:20211021T022957Z
LAST-MODIFIED:20231102T233824Z
UID:1020-1477324800-1477332000@history.ucla.edu
SUMMARY:B. Harun Küçük -“The Eighteenth-Century Ottoman Prayer Compass”
DESCRIPTION:
URL:https://history.ucla.edu/event/b-harun-kucuk-the-eighteenth-century-ottoman-prayer-compass/
CATEGORIES:History of Science Colloquium
END:VEVENT
BEGIN:VEVENT
DTSTART;TZID=America/Los_Angeles:20161017T160000
DTEND;TZID=America/Los_Angeles:20161017T180000
DTSTAMP:20260419T054223
CREATED:20211021T022957Z
LAST-MODIFIED:20231102T233016Z
UID:1019-1476720000-1476727200@history.ucla.edu
SUMMARY:Miriam Posner-“Making Sense of the Digital Humanities for Historians of Medicine & Science”
DESCRIPTION:
URL:https://history.ucla.edu/event/miriam-posner-making-sense-of-the-digital-humanities-for-historians-of-medicine-science/
CATEGORIES:History of Science Colloquium
END:VEVENT
BEGIN:VEVENT
DTSTART;TZID=America/Los_Angeles:20161010T160000
DTEND;TZID=America/Los_Angeles:20161010T180000
DTSTAMP:20260419T054223
CREATED:20211021T023012Z
LAST-MODIFIED:20231102T220757Z
UID:1026-1476115200-1476122400@history.ucla.edu
SUMMARY:Courtenay Raia-“William in Wonderland: Crookes’s Scientific Spiritualism and the Physics of the Impossible”
DESCRIPTION:Courtenay Raia (Colson School of Music)\n“William in Wonderland: Crookes’s Scientific Spiritualism and the Physics of the Impossible”
URL:https://history.ucla.edu/event/courtenay-raia-william-in-wonderland-crookess-scientific-spiritualism-and-the-physics-of-the-impossible/
CATEGORIES:History of Science Colloquium
ATTACH;FMTTYPE=image/jpeg:https://history.ucla.edu/wp-content/uploads/2021/10/fall_2016_colloquium_schedule.pdf__4-3jIZcm.tmp_.jpg
END:VEVENT
BEGIN:VEVENT
DTSTART;TZID=America/Los_Angeles:20160523T160000
DTEND;TZID=America/Los_Angeles:20160523T180000
DTSTAMP:20260419T054223
CREATED:20211021T022021Z
LAST-MODIFIED:20231102T220256Z
UID:986-1464019200-1464026400@history.ucla.edu
SUMMARY:William Deringer - “Calculated Values: Finance\, Politics\, and the Quantitative Age\, 1688-1776"
DESCRIPTION:William Deringer (MIT)\n“Calculated Values: Finance\, Politics\, and the Quantitative Age\, 1688-1776″
URL:https://history.ucla.edu/event/william-deringer-calculated-values-finance-politics-and-the-quantitative-age-1688-1776/
CATEGORIES:History of Science Colloquium
ATTACH;FMTTYPE=image/jpeg:https://history.ucla.edu/wp-content/uploads/2021/10/spring_2016_colloquium_schedule_5-8DHkoP.tmp_.jpg
END:VEVENT
BEGIN:VEVENT
DTSTART;TZID=America/Los_Angeles:20160516T160000
DTEND;TZID=America/Los_Angeles:20160516T180000
DTSTAMP:20260419T054223
CREATED:20211021T022021Z
LAST-MODIFIED:20231102T214704Z
UID:985-1463414400-1463421600@history.ucla.edu
SUMMARY:Rob Schraff - “Making and Unmaking Madness with LSD: From Psychotomimetic to Psychedelic and Back Again”
DESCRIPTION:Rob Schraff (UCLA) \n“Making and Unmaking Madness with LSD: From Psychotomimetic to Psychedelic and Back Again”
URL:https://history.ucla.edu/event/rob-schraff-making-and-unmaking-madness-with-lsd-from-psychotomimetic-to-psychedelic-and-back-again/
CATEGORIES:History of Science Colloquium
ATTACH;FMTTYPE=image/jpeg:https://history.ucla.edu/wp-content/uploads/2021/10/spring_2016_colloquium_schedule_4-J44Dnq.tmp_.jpg
END:VEVENT
END:VCALENDAR