BEGIN:VCALENDAR
VERSION:2.0
PRODID:-//UCLA Department of History - ECPv6.15.17.1//NONSGML v1.0//EN
CALSCALE:GREGORIAN
METHOD:PUBLISH
X-WR-CALNAME:UCLA Department of History
X-ORIGINAL-URL:https://history.ucla.edu
X-WR-CALDESC:Events for UCLA Department of History
REFRESH-INTERVAL;VALUE=DURATION:PT1H
X-Robots-Tag:noindex
X-PUBLISHED-TTL:PT1H
BEGIN:VTIMEZONE
TZID:America/Los_Angeles
BEGIN:DAYLIGHT
TZOFFSETFROM:-0800
TZOFFSETTO:-0700
TZNAME:PDT
DTSTART:20140309T100000
END:DAYLIGHT
BEGIN:STANDARD
TZOFFSETFROM:-0700
TZOFFSETTO:-0800
TZNAME:PST
DTSTART:20141102T090000
END:STANDARD
BEGIN:DAYLIGHT
TZOFFSETFROM:-0800
TZOFFSETTO:-0700
TZNAME:PDT
DTSTART:20150308T100000
END:DAYLIGHT
BEGIN:STANDARD
TZOFFSETFROM:-0700
TZOFFSETTO:-0800
TZNAME:PST
DTSTART:20151101T090000
END:STANDARD
BEGIN:DAYLIGHT
TZOFFSETFROM:-0800
TZOFFSETTO:-0700
TZNAME:PDT
DTSTART:20160313T100000
END:DAYLIGHT
BEGIN:STANDARD
TZOFFSETFROM:-0700
TZOFFSETTO:-0800
TZNAME:PST
DTSTART:20161106T090000
END:STANDARD
END:VTIMEZONE
BEGIN:VEVENT
DTSTART;TZID=America/Los_Angeles:20151130T160000
DTEND;TZID=America/Los_Angeles:20151130T184500
DTSTAMP:20260419T140438
CREATED:20211021T021227Z
LAST-MODIFIED:20230829T213947Z
UID:919-1448899200-1448909100@history.ucla.edu
SUMMARY:“A Laboratory for Latin Eugenics: Corrado Gini and the Italian Investigation of Mexican Indians”
DESCRIPTION:Luc Berlivet (INSERM\, Paris)\, Co-sponsored by EpiDaPo UCLA
URL:https://history.ucla.edu/event/a-laboratory-for-latin-eugenics-corrado-gini-and-the-italian-investigation-of-mexican-indians/
LOCATION:5288 Bunche Hall
CATEGORIES:Lecture
END:VEVENT
BEGIN:VEVENT
DTSTART;TZID=America/Los_Angeles:20151123T160000
DTEND;TZID=America/Los_Angeles:20151123T183000
DTSTAMP:20260419T140438
CREATED:20211021T021227Z
LAST-MODIFIED:20230829T213848Z
UID:918-1448294400-1448303400@history.ucla.edu
SUMMARY:“Negotiating Political Challenges to the Integrity of Research: Islamic Studies and Stem Cell Science”
DESCRIPTION:Axel Jansen and Andreas Franzmann (University of Tübingen)
URL:https://history.ucla.edu/event/negotiating-political-challenges-to-the-integrity-of-research-islamic-studies-and-stem-cell-science/
LOCATION:5288 Bunche Hall
CATEGORIES:Lecture
END:VEVENT
BEGIN:VEVENT
DTSTART;TZID=America/Los_Angeles:20151118T160000
DTEND;TZID=America/Los_Angeles:20151118T180000
DTSTAMP:20260419T140438
CREATED:20211020T223226Z
LAST-MODIFIED:20230829T213808Z
UID:427-1447862400-1447869600@history.ucla.edu
SUMMARY:Book Talk
DESCRIPTION:William Summerhill\, “Inglorious Revolution: Inglorious Revolution: Political Institutions\, Sovereign Debt\, and Financial Underdevelopment in Imperial Brazil (New Haven: Yale University Press\, 2015)” \nThe discussants for this event are Jean-Laurent Rosenthal\, Chair of the Division of Humanities and Social Sciences\, California Institute of Technology\, and Barry R. Weingast\, Professor of Political Science\, Stanford University\, and Senior Fellow\, Hoover Institution.
URL:https://history.ucla.edu/event/book-talk/
LOCATION:6275 Bunche Hall
CATEGORIES:Book Talk
ATTACH;FMTTYPE=image/jpeg:https://history.ucla.edu/wp-content/uploads/2021/10/inglorious_revolution_thumbnail.jpeg
END:VEVENT
BEGIN:VEVENT
DTSTART;TZID=America/Los_Angeles:20151117T180000
DTEND;TZID=America/Los_Angeles:20151117T200000
DTSTAMP:20260419T140438
CREATED:20211020T223211Z
LAST-MODIFIED:20231102T180900Z
UID:420-1447783200-1447790400@history.ucla.edu
SUMMARY:Why History Matters
DESCRIPTION:
URL:https://history.ucla.edu/event/why-history-matters/
LOCATION:CNSI
CATEGORIES:Why History Matters Series
ATTACH;FMTTYPE=image/jpeg:https://history.ucla.edu/wp-content/uploads/2023/11/olympics2024.jpg
END:VEVENT
BEGIN:VEVENT
DTSTART;TZID=America/Los_Angeles:20151117T160000
DTEND;TZID=America/Los_Angeles:20151117T180000
DTSTAMP:20260419T140438
CREATED:20211021T021213Z
LAST-MODIFIED:20230829T213358Z
UID:916-1447776000-1447783200@history.ucla.edu
SUMMARY:“The Immortal Archives: Nineteenth-Century Science Imagines the Future”
DESCRIPTION:Lorraine Daston (MPI-WG\, Berlin). European History Colloquium\, cosponsored by History of Science.
URL:https://history.ucla.edu/event/the-immortal-archives-nineteenth-century-science-imagines-the-future/
CATEGORIES:European History Colloquium,History of Science Colloquium
ATTACH;FMTTYPE=image/jpeg:https://history.ucla.edu/wp-content/uploads/2021/10/daston-kqjMhj.tmp_.jpg
END:VEVENT
BEGIN:VEVENT
DTSTART;TZID=America/Los_Angeles:20151116T160000
DTEND;TZID=America/Los_Angeles:20151116T180000
DTSTAMP:20260419T140438
CREATED:20211021T021212Z
LAST-MODIFIED:20230829T212257Z
UID:915-1447689600-1447696800@history.ucla.edu
SUMMARY:“Thinking in Cases: Paper Technologies in Early-Modern Medicine”
DESCRIPTION:Volker Hess (Charité-Universitätsmedizin\, Berlin)
URL:https://history.ucla.edu/event/thinking-in-cases-paper-technologies-in-early-modern-medicine/
LOCATION:5288 Bunche Hall
END:VEVENT
BEGIN:VEVENT
DTSTART;TZID=America/Los_Angeles:20151112T160000
DTEND;TZID=America/Los_Angeles:20151112T180000
DTSTAMP:20260419T140438
CREATED:20211020T223156Z
LAST-MODIFIED:20230829T201505Z
UID:417-1447344000-1447351200@history.ucla.edu
SUMMARY:Lecture
DESCRIPTION:Dr. James Baida\, Head of the Moroccan National Archives: “Academic Research on Moroccan Judaism: Historiography\, Sources and Archives”
URL:https://history.ucla.edu/event/lecture/
LOCATION:UCLA Royce Hall – Room 314\, 10745 Dickson Ct\, Los Angeles\, CA\, 90095\, United States
END:VEVENT
BEGIN:VEVENT
DTSTART;TZID=America/Los_Angeles:20151110T150000
DTEND;TZID=America/Los_Angeles:20151110T170000
DTSTAMP:20260419T140438
CREATED:20211020T223241Z
LAST-MODIFIED:20230829T195132Z
UID:429-1447167600-1447174800@history.ucla.edu
SUMMARY:History Writing Center Workshop
DESCRIPTION:“How to Write a Thesis” \nJoin us for our 4th workshop and learn how to master the elusive thesis statement\, one of the most important elements of academic writing.  “How to Write a Thesis” workshop will guide you through the process of constructing a thesis statement for history essays and will also provide guides on how to structure your supporting paragraphs. If you have an essay that you are currently working on\, you are encouraged to bring that to the workshop so you can apply the tools that your learn directly to your work. \nPlease RSVP to uclahistorywritingcenter@gmail.com. \nWe look forward to seeing you there.
URL:https://history.ucla.edu/event/history-writing-center-workshop-3/
LOCATION:6275 Bunche Hall
END:VEVENT
BEGIN:VEVENT
DTSTART;TZID=America/Los_Angeles:20151109T160000
DTEND;TZID=America/Los_Angeles:20151109T183000
DTSTAMP:20260419T140438
CREATED:20211021T021212Z
LAST-MODIFIED:20230829T194927Z
UID:913-1447084800-1447093800@history.ucla.edu
SUMMARY:“Madness and Politics in Nineteenth-Century France”
DESCRIPTION:Laure Murat (Department of French and Francophone Studies\, UCLA)
URL:https://history.ucla.edu/event/madness-and-politics-in-nineteenth-century-france/
LOCATION:5288 Bunche Hall
END:VEVENT
BEGIN:VEVENT
DTSTART;TZID=America/Los_Angeles:20151106T120000
DTEND;TZID=America/Los_Angeles:20151106T140000
DTSTAMP:20260419T140438
CREATED:20211020T223156Z
LAST-MODIFIED:20211021T021157Z
UID:415-1446811200-1446818400@history.ucla.edu
SUMMARY:Atlantic History Speaker Series
DESCRIPTION:Tomas Robaina\, National Library Of Cuba\, “The Black Press of Cuba: Nineteenth Century Sources”
URL:https://history.ucla.edu/event/atlantic-history-speaker-series-2/
CATEGORIES:Atlantic History Lecture Series
END:VEVENT
BEGIN:VEVENT
DTSTART;TZID=America/Los_Angeles:20151105T160000
DTEND;TZID=America/Los_Angeles:20151105T180000
DTSTAMP:20260419T140438
CREATED:20211021T021228Z
LAST-MODIFIED:20230829T194832Z
UID:923-1446739200-1446746400@history.ucla.edu
SUMMARY:“Pestifera bella civilia: The Roman Invention of Civil War”
DESCRIPTION:Professor David Armitage (Harvard)
URL:https://history.ucla.edu/event/pestifera-bella-civilia-the-roman-invention-of-civil-war/
LOCATION:6275 Bunche Hall
CATEGORIES:European History Colloquium
END:VEVENT
BEGIN:VEVENT
DTSTART;TZID=America/Los_Angeles:20151103T150000
DTEND;TZID=America/Los_Angeles:20151103T163000
DTSTAMP:20260419T140438
CREATED:20211020T223226Z
LAST-MODIFIED:20230829T194742Z
UID:428-1446562800-1446568200@history.ucla.edu
SUMMARY:History Writing Center Workshop
DESCRIPTION:“How to Write a History Paper” \nThis workshop will focus on introductions and conclusions\, as well as different types of History papers.  Please RSVP to uclahistorywritingcenter@gmail.com by Monday\, November 2nd.
URL:https://history.ucla.edu/event/history-writing-center-workshop-2/
LOCATION:6275 Bunche Hall
END:VEVENT
BEGIN:VEVENT
DTSTART;TZID=America/Los_Angeles:20151026T100000
DTEND;TZID=America/Los_Angeles:20151026T123000
DTSTAMP:20260419T140438
CREATED:20211020T223226Z
LAST-MODIFIED:20230829T194602Z
UID:426-1445853600-1445862600@history.ucla.edu
SUMMARY:Colloquium
DESCRIPTION:Region\, Nation\, Fiction \nA Colloquium on Brazil-US Literary Relations \n\nwith writers \nKaren Tei Yamashita\, Daniel Galera\, and John Freeman
URL:https://history.ucla.edu/event/colloquium/
LOCATION:UCLA Faculty Center\, Sequoia Room
END:VEVENT
BEGIN:VEVENT
DTSTART;TZID=America/Los_Angeles:20151022T160000
DTEND;TZID=America/Los_Angeles:20151022T180000
DTSTAMP:20260419T140438
CREATED:20211021T021228Z
LAST-MODIFIED:20230829T194509Z
UID:921-1445529600-1445536800@history.ucla.edu
SUMMARY:“Exodus from the East: Emigration and the Making of the Free World”
DESCRIPTION:Professor Tara Zahra (Chicago)
URL:https://history.ucla.edu/event/exodus-from-the-east-emigration-and-the-making-of-the-free-world/
LOCATION:6275 Bunche Hall
CATEGORIES:European History Colloquium
ATTACH;FMTTYPE=image/jpeg:https://history.ucla.edu/wp-content/uploads/2021/10/tara_zahra_flyer-qn1zyg.tmp_.jpg
END:VEVENT
BEGIN:VEVENT
DTSTART;TZID=America/Los_Angeles:20151022T120000
DTEND;TZID=America/Los_Angeles:20151022T140000
DTSTAMP:20260419T140438
CREATED:20211020T223156Z
LAST-MODIFIED:20211021T021157Z
UID:414-1445515200-1445522400@history.ucla.edu
SUMMARY:Atlantic History Speaker Series
DESCRIPTION:Aisha Beliso DeJesus\, “Electric Santería: Racial and Sexual Assemblages of Transnational Religion”
URL:https://history.ucla.edu/event/atlantic-history-speaker-series/
CATEGORIES:Atlantic History Lecture Series
END:VEVENT
BEGIN:VEVENT
DTSTART;TZID=America/Los_Angeles:20151020T150000
DTEND;TZID=America/Los_Angeles:20151020T170000
DTSTAMP:20260419T140438
CREATED:20211020T223211Z
LAST-MODIFIED:20230829T193111Z
UID:423-1445353200-1445360400@history.ucla.edu
SUMMARY:History Writing Center Workshop
DESCRIPTION:The History Writing Center is holding its first workshop for the Fall quarter on “Primary and Secondary sources analysis” with an added segment on reading maps and pictures. The workshop is taking place on Tuesday October 20th from 3-5 pm in the History reading room \, (Bunche 6265). Please RSVP to uclahistorywritingcenter@gmail.com by Tuesday.
URL:https://history.ucla.edu/event/history-writing-center-workshop/
LOCATION:History Reading Room\, 6265 Bunche Hall
END:VEVENT
BEGIN:VEVENT
DTSTART;TZID=America/Los_Angeles:20151019T160000
DTEND;TZID=America/Los_Angeles:20151019T184500
DTSTAMP:20260419T140438
CREATED:20211021T021157Z
LAST-MODIFIED:20230829T192743Z
UID:905-1445270400-1445280300@history.ucla.edu
SUMMARY:“On Call: Towards a Media History of Medicine”
DESCRIPTION:Jeremy Greene (Department of History of Medicine\, Johns Hopkins University) (Cosponsored by the History and Social Studies of Medicine Program.)
URL:https://history.ucla.edu/event/on-call-towards-a-media-history-of-medicine/
LOCATION:5288 Bunche Hall
CATEGORIES:Lecture
END:VEVENT
BEGIN:VEVENT
DTSTART;TZID=America/Los_Angeles:20151019T150000
DTEND;TZID=America/Los_Angeles:20151019T170000
DTSTAMP:20260419T140438
CREATED:20211020T223153Z
LAST-MODIFIED:20230829T192148Z
UID:411-1445266800-1445274000@history.ucla.edu
SUMMARY:119th UCLA Faculty Research Lecture
DESCRIPTION:Arch Getty\, “Dead Man Talking: Lenin’s Body and Russian Politics”
URL:https://history.ucla.edu/event/119th-ucla-faculty-research-lecture/
LOCATION:Schoenberg Hall
END:VEVENT
BEGIN:VEVENT
DTSTART;TZID=America/Los_Angeles:20151019T120000
DTEND;TZID=America/Los_Angeles:20151019T140000
DTSTAMP:20260419T140438
CREATED:20211020T223153Z
LAST-MODIFIED:20230829T192050Z
UID:410-1445256000-1445263200@history.ucla.edu
SUMMARY:Saharan Jews and the Fate of French Algeria
DESCRIPTION:A Book Talk by Professor Sarah Stein
URL:https://history.ucla.edu/event/saharan-jews-and-the-fate-of-french-algeria/
LOCATION:6275 Bunche Hall
CATEGORIES:Book Talk
ATTACH;FMTTYPE=image/jpeg:https://history.ucla.edu/wp-content/uploads/2021/10/large-A9Ro1c.tmp_.jpg
END:VEVENT
BEGIN:VEVENT
DTSTART;TZID=America/Los_Angeles:20151017T093000
DTEND;TZID=America/Los_Angeles:20151017T170000
DTSTAMP:20260419T140438
CREATED:20211020T223153Z
LAST-MODIFIED:20230829T191946Z
UID:409-1445074200-1445101200@history.ucla.edu
SUMMARY:Knowledge\, Technologies\, and Mediation: A Workshop in Honor of Norton Wise
DESCRIPTION:Sponsored by: UCLA History of Science Colloquium\, Institute for Society and Genetics\, Department of History\, with additional support from Dean of Social Sciences and Executive Vice-Chancellor \nPLEASE NOTE:  All are welcome to the workshop.  If you want lunch though\, you must sign up!  To do so\, simply send an email to:  nortonwisefest@gmail.com \n  \nCoffee: 9:30 am \nMorning Session (10 am to 12 pm) \nMary Terrall: UCLA \nWelcome and Opening Remarks \nKevin Lambert: CSU\, Fullerton \n“William Thomson’s Notebooks: How to do things with notebooks in Victorian Britain.” \nTheodore Arabatzis: University of Athens \n“A philosophical history of the discovery of argon” \nDavid Aubin: (UPMC\, Paris) \n“Around the blocks: pathways to a history of flowcharts” \n  \nLunch (306 Royce)  \n  \nAfternoon Session (1:30 pm to 5 pm) \nSuman Seth: (Cornell University) \n“Polygenism in Print: John Atkins and Naval Medicine in the 1730s and 1740s” \nMi Gyung Kim: (North Carolina State University  ) \n“A People-Machine: Balloons and the Republican Imaginary” \nTiago Saraiva: (Drexel University) \n“Heidegger’s Pigs and Dewey’s Oranges: technoscientific organisms and the writing of history of science” \nAlix Hui: (Mississippi State University) and Lino Camprubi: (MPIWG\, Berlin) \n“Testing the Underwater Ear: Hearing\, Standardizing\, and Classifying Marine Sounds during the Cold War” \nNorton Wise: (UCLA) \nComments \n— Organized by Mary Terrall\, Suman Seth\, and Kevin Lambert —
URL:https://history.ucla.edu/event/knowledge-technologies-and-mediation-a-workshop-in-honor-of-norton-wise/
ATTACH;FMTTYPE=image/jpeg:https://history.ucla.edu/wp-content/uploads/2021/10/wise_workshop-6Aet77.tmp_.jpg
END:VEVENT
BEGIN:VEVENT
DTSTART;TZID=America/Los_Angeles:20151016T150000
DTEND;TZID=America/Los_Angeles:20151016T170000
DTSTAMP:20260419T140438
CREATED:20211020T183140Z
LAST-MODIFIED:20230829T191538Z
UID:400-1445007600-1445014800@history.ucla.edu
SUMMARY:"War Against All Puerto Ricans"
DESCRIPTION:Nelson Denis\, the author of the new book War Against All Puerto Ricans: Revolution and Terror in America’s Colony\, will be discussing his book\, The History of Colonialism in Puerto Rico\, and The Plight of Puerto Rican Political Prisoner Oscar López Rivera. The talk will also feature an introduction by Peter James Hudson of the Departments of History and African American Studies. \nThe event is sponsored by the Latin American Institute\, the Department of History\, and the Department of African American Studies. It will take place on Friday\, October 16 from 3-5 PM in Bunche 10383.
URL:https://history.ucla.edu/event/war-against-all-puerto-ricans/
LOCATION:10383 Bunche Hall
ATTACH;FMTTYPE=image/jpeg:https://history.ucla.edu/wp-content/uploads/2021/10/large-3-fvf4bn.tmp_.jpg
END:VEVENT
BEGIN:VEVENT
DTSTART;TZID=America/Los_Angeles:20151014T120000
DTEND;TZID=America/Los_Angeles:20151014T140000
DTSTAMP:20260419T140438
CREATED:20211020T183139Z
LAST-MODIFIED:20230829T191345Z
UID:399-1444824000-1444831200@history.ucla.edu
SUMMARY:Building Social Spaces: Empire and Everyday Life in Late 20th
DESCRIPTION:Building Social Spaces: Empire and Everyday Life in Late 20th Century Marseille – visiting Professor Minayo Nasiali
URL:https://history.ucla.edu/event/building-social-spaces-empire-and-everyday-life-in-late-20th/
LOCATION:6275 Bunche Hall
ATTACH;FMTTYPE=image/jpeg:https://history.ucla.edu/wp-content/uploads/2021/10/large-2-IWOfex.tmp_.jpg
END:VEVENT
BEGIN:VEVENT
DTSTART;TZID=America/Los_Angeles:20151012T160000
DTEND;TZID=America/Los_Angeles:20151012T184500
DTSTAMP:20260419T140438
CREATED:20211021T021154Z
LAST-MODIFIED:20230809T234302Z
UID:899-1444665600-1444675500@history.ucla.edu
SUMMARY:“Clues Beneath the Lamp: on Copernicus’s Magical Other”
DESCRIPTION:Avner ben-Zaken (Liberal Arts Department\, Ono College (Israel)) \nContact:  Mary Terrall
URL:https://history.ucla.edu/event/clues-beneath-the-lamp-on-copernicuss-magical-other/
LOCATION:5288 Bunche Hall
END:VEVENT
END:VCALENDAR