BEGIN:VCALENDAR
VERSION:2.0
PRODID:-//UCLA Department of History - ECPv6.15.17.1//NONSGML v1.0//EN
CALSCALE:GREGORIAN
METHOD:PUBLISH
X-WR-CALNAME:UCLA Department of History
X-ORIGINAL-URL:https://history.ucla.edu
X-WR-CALDESC:Events for UCLA Department of History
REFRESH-INTERVAL;VALUE=DURATION:PT1H
X-Robots-Tag:noindex
X-PUBLISHED-TTL:PT1H
BEGIN:VTIMEZONE
TZID:America/Los_Angeles
BEGIN:DAYLIGHT
TZOFFSETFROM:-0800
TZOFFSETTO:-0700
TZNAME:PDT
DTSTART:20190310T100000
END:DAYLIGHT
BEGIN:STANDARD
TZOFFSETFROM:-0700
TZOFFSETTO:-0800
TZNAME:PST
DTSTART:20191103T090000
END:STANDARD
BEGIN:DAYLIGHT
TZOFFSETFROM:-0800
TZOFFSETTO:-0700
TZNAME:PDT
DTSTART:20200308T100000
END:DAYLIGHT
BEGIN:STANDARD
TZOFFSETFROM:-0700
TZOFFSETTO:-0800
TZNAME:PST
DTSTART:20201101T090000
END:STANDARD
BEGIN:DAYLIGHT
TZOFFSETFROM:-0800
TZOFFSETTO:-0700
TZNAME:PDT
DTSTART:20210314T100000
END:DAYLIGHT
BEGIN:STANDARD
TZOFFSETFROM:-0700
TZOFFSETTO:-0800
TZNAME:PST
DTSTART:20211107T090000
END:STANDARD
END:VTIMEZONE
BEGIN:VEVENT
DTSTART;TZID=America/Los_Angeles:20201201T120000
DTEND;TZID=America/Los_Angeles:20201201T130000
DTSTAMP:20260425T214048
CREATED:20211021T033541Z
LAST-MODIFIED:20230927T003111Z
UID:1375-1606824000-1606827600@history.ucla.edu
SUMMARY:Brian J. Griffith\, "Contesting the National Beverage: Wine\, Beer\, and the Battle over ‘Foreign’ Tastes and Habits in Interwar Italy"
DESCRIPTION:Speaker: Brian J. Griffith\, Eugen and Jacqueline Weber Post-Doctoral Scholar in European History \nTitle: “Contesting the National Beverage: Wine\, Beer\, and the Battle over ‘Foreign’ Tastes and Habits in Interwar Italy” \nThe recording can now be found here: https://fb.watch/26uKXr920X/. \n\n\nBrief Abstract: “This paper analyzes the struggles between the Italian winemaking and brewing industries over the shaping of bourgeois Italian tastes and habits during the interwar decades. During the early 1920s\, Fascist Italy’s Industrial Wine Lobby began unveiling a wide range of public relations and collective marketing campaigns\, which were aimed at forging new ‘fashions’ or trendy collective practices among the country’s wayward middle- and upper-class consumers. The pro-wine lobby’s efforts\, however\, were obstructed by a variety of political and commercial challenges\, including a growing competition with various ‘foreign’ beverage industries\, such as coffee\, cocktails\, and\, above all\, beer. Between 1929 and 1931\, Italian brewers’ commercial lobbying organization\, the National Beer Propaganda Consortium\, launched two ambitious collective marketing campaigns of their own\, which were centered on discursively intertwining the beverage’s consumption with bourgeois sociability\, domesticity\, and ‘Italian’ identity. Unwilling to yield any commercial ground to domestic brewers\, Italy’s Industrial Wine Lobby launched a follow-up\, and wide-ranging collective marketing campaign in order to both defend ‘the world’s vineyard’ from the ‘invasion’ of ‘semi-barbarian’ preferences\, as one wine lobbyist colorfully phrased it in 1935\, and\, equally as important\, reposition Italian wine as a wholesome and fashionable ‘national beverage’ within the eyes of the peninsula’s middle- and upper-classes. By exploring these industries’ conflicts over the definition and articulation of ‘Italian’ taste and style during Fascism’s twenty years in power in Italy\, this study aims to shed further light on the myriad\, and oftentimes complex\, relationships between popular consumption\, industrial ‘fashion’ dynamics\, and national identity.” \nEvent Host: UCLA’s Center for European and Russian Studies \nDate/Time: Tuesday\, December 1st from 12:00pm to 1:00pm \n\nZoom Registration Link: https://ucla.zoom.us/webinar/register/WN_4lFpMlUcRIiKcxvBkf4V3Q \nAdditional Information: See https://www.international.ucla.edu/euro/event/14684
URL:https://history.ucla.edu/event/brian-j-griffith-contesting-the-national-beverage-wine-beer-and-the-battle-over-foreign-tastes-and-habits-in-interwar-italy/
LOCATION:Zoom
ATTACH;FMTTYPE=image/png:https://history.ucla.edu/wp-content/uploads/2021/10/snobismo-503x758-1.png
END:VEVENT
END:VCALENDAR