BEGIN:VCALENDAR
VERSION:2.0
PRODID:-//UCLA Department of History - ECPv6.15.17.1//NONSGML v1.0//EN
CALSCALE:GREGORIAN
METHOD:PUBLISH
X-WR-CALNAME:UCLA Department of History
X-ORIGINAL-URL:https://history.ucla.edu
X-WR-CALDESC:Events for UCLA Department of History
REFRESH-INTERVAL;VALUE=DURATION:PT1H
X-Robots-Tag:noindex
X-PUBLISHED-TTL:PT1H
BEGIN:VTIMEZONE
TZID:America/Los_Angeles
BEGIN:DAYLIGHT
TZOFFSETFROM:-0800
TZOFFSETTO:-0700
TZNAME:PDT
DTSTART:20210314T100000
END:DAYLIGHT
BEGIN:STANDARD
TZOFFSETFROM:-0700
TZOFFSETTO:-0800
TZNAME:PST
DTSTART:20211107T090000
END:STANDARD
BEGIN:DAYLIGHT
TZOFFSETFROM:-0800
TZOFFSETTO:-0700
TZNAME:PDT
DTSTART:20220313T100000
END:DAYLIGHT
BEGIN:STANDARD
TZOFFSETFROM:-0700
TZOFFSETTO:-0800
TZNAME:PST
DTSTART:20221106T090000
END:STANDARD
BEGIN:DAYLIGHT
TZOFFSETFROM:-0800
TZOFFSETTO:-0700
TZNAME:PDT
DTSTART:20230312T100000
END:DAYLIGHT
BEGIN:STANDARD
TZOFFSETFROM:-0700
TZOFFSETTO:-0800
TZNAME:PST
DTSTART:20231105T090000
END:STANDARD
END:VTIMEZONE
BEGIN:VEVENT
DTSTART;TZID=America/Los_Angeles:20220502T160000
DTEND;TZID=America/Los_Angeles:20220502T173000
DTSTAMP:20260421T035440
CREATED:20220901T210411Z
LAST-MODIFIED:20220901T210411Z
UID:5839-1651507200-1651512600@history.ucla.edu
SUMMARY:History of Science Colloquium: Alexandra Minna Stern (University of Michigan)
DESCRIPTION:May 2 Alexandra Minna Stern (University of Michigan) \n“From State Coercion to Reparative Justice? Histories and Legacies of Eugenics and Sterilization in California” \nZoom RSVP: https://ucla.zoom.us/meeting/register/tJEvdOmqrjojEtRUCEXGyTS_3KjPNovF6r6L \nIn Person RSVP: https://docs.google.com/forms/d/1VuNtVVC2wj5HhtXpY9FXKdf43Tgp4W118aSpFY95x-E \nThis talk explores the history and legacies of eugenics and coerced sterilization in California from three angles. First\, I provide an overview of the archival and collaborative research involved in reconstructing the demographic and contextual history of compulsory sterilization during the era of eugenic legislation (1909-1979). Second\, I discuss the relevance of this history to contemporary issues in society and genetics\, ranging from debates over acceptable building names on university campuses to the insidious biases of some reprogenetic technologies. Finally\, I conclude by reflecting on the benefits and limits of reparations for eugenics\, with specific attention to the recently implemented compensation program for survivors of coerced sterilizations in state-run homes\, hospitals\, and prisons in California.
URL:https://history.ucla.edu/event/history-of-science-colloquium-alexandra-minna-stern-university-of-michigan/
CATEGORIES:Events
END:VEVENT
BEGIN:VEVENT
DTSTART;TZID=America/Los_Angeles:20220503T160000
DTEND;TZID=America/Los_Angeles:20220503T170000
DTSTAMP:20260421T035440
CREATED:20220901T205352Z
LAST-MODIFIED:20220901T210242Z
UID:5834-1651593600-1651597200@history.ucla.edu
SUMMARY:2022 Eugene Weber Prize Recipient Judith G. Coffin\, "Sex\, Love and Letters: Writing Simone de Beauvoir"
DESCRIPTION:Judith G. Coffin\, winner of the 2022 Eugen Weber Book Prize in French History\, will speak about her beautifully written book\, Sex\, Love\, and Letters: Writing Simone de Beauvoir\, which explores the neglected archive of letters written to Simone de Beauvoir by ordinary women and men. This innovative cultural history examines the twentieth century as an embodied experience\, showing the intimate connections between the geopolitical and the personal.
URL:https://history.ucla.edu/event/2022-eugene-weber-prize-recipient-judith-g-coffin-sex-love-and-letters-writing-simone-de-beauvoir/
LOCATION:6257 Bunche Hall
CATEGORIES:Events
ATTACH;FMTTYPE=image/png:https://history.ucla.edu/wp-content/uploads/2022/09/eugune_weber_book_prize_1.png
END:VEVENT
BEGIN:VEVENT
DTSTART;TZID=America/Los_Angeles:20220505T090000
DTEND;TZID=America/Los_Angeles:20220505T153000
DTSTAMP:20260421T035440
CREATED:20220901T201537Z
LAST-MODIFIED:20220901T205253Z
UID:5828-1651741200-1651764600@history.ucla.edu
SUMMARY:The History of Gender & Sexuality Workshop
DESCRIPTION:
URL:https://history.ucla.edu/event/the-history-of-gender-sexuality-workshop/
LOCATION:6257 Bunche Hall
CATEGORIES:Events
ATTACH;FMTTYPE=image/png:https://history.ucla.edu/wp-content/uploads/2022/09/gender_sexuality_workshop.png
END:VEVENT
BEGIN:VEVENT
DTSTART;TZID=America/Los_Angeles:20220510T160000
DTEND;TZID=America/Los_Angeles:20220901T170000
DTSTAMP:20260421T035440
CREATED:20220901T200901Z
LAST-MODIFIED:20220901T201501Z
UID:5822-1652198400-1662051600@history.ucla.edu
SUMMARY:Why History Matters: China\, Russia\, and the US: Enduring Legacies of the Cold War
DESCRIPTION:~  A RECORDING OF THIS EVENT IS NOW AVAILABLE.  ~\nZoom RSVP Here
URL:https://history.ucla.edu/event/why-history-matters-china-russia-and-the-us-enduring-legacies-of-the-cold-war/
CATEGORIES:Events
ATTACH;FMTTYPE=image/jpeg:https://history.ucla.edu/wp-content/uploads/2022/09/whyhistorymatters.jpeg
END:VEVENT
BEGIN:VEVENT
DTSTART;TZID=America/Los_Angeles:20220513T100000
DTEND;TZID=America/Los_Angeles:20220513T143000
DTSTAMP:20260421T035440
CREATED:20220901T200555Z
LAST-MODIFIED:20220901T200634Z
UID:5816-1652436000-1652452200@history.ucla.edu
SUMMARY:6th Annual Undergraduate History Conference - "Intersectionality\, Movements\, and Resistance"
DESCRIPTION:
URL:https://history.ucla.edu/event/6th-annual-undergraduate-history-conference-intersectionality-movements-and-resistance/
LOCATION:Zoom
CATEGORIES:Events
ATTACH;FMTTYPE=image/jpeg:https://history.ucla.edu/wp-content/uploads/2022/09/huab_conference_flyer.jpeg
END:VEVENT
BEGIN:VEVENT
DTSTART;TZID=America/Los_Angeles:20220516T160000
DTEND;TZID=America/Los_Angeles:20220516T173000
DTSTAMP:20260421T035440
CREATED:20220901T081542Z
LAST-MODIFIED:20220901T081542Z
UID:5806-1652716800-1652722200@history.ucla.edu
SUMMARY:History of Science Colloquium: Ylva Soederfeldt (Uppsala/ UCLA)
DESCRIPTION:May 16 Ylva Soederfeldt (Uppsala/ UCLA) \n“Acting out Disease: Patient Organizations in Twentieth-Century Medicine” \nZoom RSVP: https://ucla.zoom.us/meeting/register/tJMod-qhqz0oE9RdqRTVRaedLGCFEIrVhUfd \nIn Person RSVP: https://docs.google.com/forms/d/1b1K-Jc87ZdjECauHsSaH4JWGu4G-t30dAoQfsk3SHbQ
URL:https://history.ucla.edu/event/history-of-science-colloquium-ylva-soederfeldt-uppsala-ucla/
CATEGORIES:Events
END:VEVENT
BEGIN:VEVENT
DTSTART;TZID=America/Los_Angeles:20220519T123000
DTEND;TZID=America/Los_Angeles:20220519T140000
DTSTAMP:20260421T035440
CREATED:20220901T081049Z
LAST-MODIFIED:20220901T081229Z
UID:5800-1652963400-1652968800@history.ucla.edu
SUMMARY:Integrating Central and Eastern Europe into Atlantic History: Some Reflections
DESCRIPTION:
URL:https://history.ucla.edu/event/integrating-central-and-eastern-europe-into-atlantic-history-some-reflections/
CATEGORIES:Events
ATTACH;FMTTYPE=image/jpeg:https://history.ucla.edu/wp-content/uploads/2022/09/atl-flyer-wimmler-2022.jpeg
END:VEVENT
END:VCALENDAR