BEGIN:VCALENDAR
VERSION:2.0
PRODID:-//UCLA Department of History - ECPv6.15.17.1//NONSGML v1.0//EN
CALSCALE:GREGORIAN
METHOD:PUBLISH
X-ORIGINAL-URL:https://history.ucla.edu
X-WR-CALDESC:Events for UCLA Department of History
REFRESH-INTERVAL;VALUE=DURATION:PT1H
X-Robots-Tag:noindex
X-PUBLISHED-TTL:PT1H
BEGIN:VTIMEZONE
TZID:America/Los_Angeles
BEGIN:DAYLIGHT
TZOFFSETFROM:-0800
TZOFFSETTO:-0700
TZNAME:PDT
DTSTART:20220313T100000
END:DAYLIGHT
BEGIN:STANDARD
TZOFFSETFROM:-0700
TZOFFSETTO:-0800
TZNAME:PST
DTSTART:20221106T090000
END:STANDARD
BEGIN:DAYLIGHT
TZOFFSETFROM:-0800
TZOFFSETTO:-0700
TZNAME:PDT
DTSTART:20230312T100000
END:DAYLIGHT
BEGIN:STANDARD
TZOFFSETFROM:-0700
TZOFFSETTO:-0800
TZNAME:PST
DTSTART:20231105T090000
END:STANDARD
BEGIN:DAYLIGHT
TZOFFSETFROM:-0800
TZOFFSETTO:-0700
TZNAME:PDT
DTSTART:20240310T100000
END:DAYLIGHT
BEGIN:STANDARD
TZOFFSETFROM:-0700
TZOFFSETTO:-0800
TZNAME:PST
DTSTART:20241103T090000
END:STANDARD
END:VTIMEZONE
BEGIN:VEVENT
DTSTART;TZID=America/Los_Angeles:20231106T180000
DTEND;TZID=America/Los_Angeles:20231106T200000
DTSTAMP:20260420T014337
CREATED:20231013T220326Z
LAST-MODIFIED:20231117T004645Z
UID:10333-1699293600-1699300800@history.ucla.edu
SUMMARY:America on Strike: Labor Takes Center Stage
DESCRIPTION:—–  RSVP:  In-Person and Virtual  —–
URL:https://history.ucla.edu/event/america-on-strike-labor-takes-center-stage/
LOCATION:Founders Room\, UCLA James West Alumni Center
CATEGORIES:Why History Matters Series
ATTACH;FMTTYPE=image/jpeg:https://history.ucla.edu/wp-content/uploads/2023/10/Why-History-Matters-America-On-Strike-Event-scaled.jpg
END:VEVENT
BEGIN:VEVENT
DTSTART;TZID=America/Los_Angeles:20231108T160000
DTEND;TZID=America/Los_Angeles:20231108T180000
DTSTAMP:20260420T014337
CREATED:20231026T220446Z
LAST-MODIFIED:20231031T194721Z
UID:10755-1699459200-1699466400@history.ucla.edu
SUMMARY:Thomas Barton (Univ. of San Diego) “Forbidden Love in the Archives: Exploring the Possibilities of Medieval Municipal Sources”
DESCRIPTION:
URL:https://history.ucla.edu/event/thomas-barton-university-of-san-diego-forbidden-love-in-the-archives-exploring-the-possibilities-of-medieval-municipal-sources/
LOCATION:6275 Bunche Hall
CATEGORIES:Candidate Job Talk
ATTACH;FMTTYPE=image/jpeg:https://history.ucla.edu/wp-content/uploads/2023/10/Job-Talk-Thomas-Barton-scaled.jpg
END:VEVENT
BEGIN:VEVENT
DTSTART;TZID=America/Los_Angeles:20231109T120000
DTEND;TZID=America/Los_Angeles:20231109T133000
DTSTAMP:20260420T014337
CREATED:20231013T185518Z
LAST-MODIFIED:20231026T183737Z
UID:10261-1699531200-1699536600@history.ucla.edu
SUMMARY:Mike Jarvis (Rochester) - Castle Cormantine and Early English Africa\, 1632-1672
DESCRIPTION:The Atlantic History Colloquium generates innovative scholarship on the relations linking Africa\, Europe and the Americas by investigating the expansion of markets during the slave trade; the production of literary texts and forms of historical memory; the politics of religious dissent and conversion; the growth of colonial science and cartography; Native American ethnogenesis; the rise of abolitionist and Pan-African ideologies; and the dynamics of race\, gender and creolization throughout the Atlantic world. \nPlease visit UCLA Atlantic History for more information and a complete schedule of events in 2023.
URL:https://history.ucla.edu/event/mike-jarvis-rochester-castle-cormantine-and-early-english-africa-1632-1672/
LOCATION:Bunche 6275 & Zoom
CATEGORIES:Atlantic History Lecture Series
ATTACH;FMTTYPE=image/jpeg:https://history.ucla.edu/wp-content/uploads/2023/10/Atlantic-Talk_Mike-Jarvis_9Nov2023.jpg
END:VEVENT
BEGIN:VEVENT
DTSTART;TZID=America/Los_Angeles:20231109T160000
DTEND;TZID=America/Los_Angeles:20231109T170000
DTSTAMP:20260420T014337
CREATED:20231102T222523Z
LAST-MODIFIED:20231102T222523Z
UID:10927-1699545600-1699549200@history.ucla.edu
SUMMARY:Stefan Rinke\, "Doing Latin American History From a European Perspective During the Boom Times of the Global"
DESCRIPTION:
URL:https://history.ucla.edu/event/stefan-rinke-doing-latin-american-history-from-a-european-perspective-during-the-boom-times-of-the-global/
LOCATION:5288 Bunche Hall
CATEGORIES:European History Colloquium
ATTACH;FMTTYPE=image/png:https://history.ucla.edu/wp-content/uploads/2023/11/Hist-Stefan-Rinke.png
END:VEVENT
BEGIN:VEVENT
DTSTART;TZID=America/Los_Angeles:20231113T160000
DTEND;TZID=America/Los_Angeles:20231113T180000
DTSTAMP:20260420T014337
CREATED:20231026T220557Z
LAST-MODIFIED:20231102T232050Z
UID:10756-1699891200-1699898400@history.ucla.edu
SUMMARY:Sara McDougall (City University of New York) “Sex on Trial: a Tale of Survival from Late Medieval France”
DESCRIPTION: 
URL:https://history.ucla.edu/event/sara-mcdougall-city-university-of-new-york-sex-on-trial-a-tale-of-survival-from-late-medieval-france/
LOCATION:6275 Bunche Hall
CATEGORIES:Candidate Job Talk
ATTACH;FMTTYPE=image/png:https://history.ucla.edu/wp-content/uploads/2023/10/image001-1.png
END:VEVENT
BEGIN:VEVENT
DTSTART;TZID=America/Los_Angeles:20231115T160000
DTEND;TZID=America/Los_Angeles:20231115T180000
DTSTAMP:20260420T014337
CREATED:20231026T220824Z
LAST-MODIFIED:20231113T232941Z
UID:10757-1700064000-1700071200@history.ucla.edu
SUMMARY:Jamie Kreiner (University of Georgia)\, "Vistas of the Mind: Cognitive Ethics and Practice in Late Antique and Early Medieval Monasticism"
DESCRIPTION: 
URL:https://history.ucla.edu/event/jamie-kreiner-university-of-georgia/
LOCATION:6275 Bunche Hall
CATEGORIES:Candidate Job Talk
ATTACH;FMTTYPE=image/png:https://history.ucla.edu/wp-content/uploads/2023/10/image001-2.png
END:VEVENT
BEGIN:VEVENT
DTSTART;TZID=America/Los_Angeles:20231116T090000
DTEND;TZID=America/Los_Angeles:20231116T163000
DTSTAMP:20260420T014337
CREATED:20231102T233126Z
LAST-MODIFIED:20231107T191835Z
UID:10947-1700125200-1700152200@history.ucla.edu
SUMMARY:Rewriting Comparative History: Engagement with the Work of R. Bin Wong
DESCRIPTION:A symposium in honor of Professor R. Bin Wong on the occasion of his retirement from the UCLA history department. Distinguished scholars\, including former students of Professor Wong\, will lead conversations about major aspects of his far-ranging contributions to scholarship on Chinese history\, comparative history\, and social theory. \nSchedule:\n\n\n\n9:00-9:15 am\nWelcome\n\n\n9:15-10:05:\nfirst session \n“Collaboration Across the State/Society Divide”: Maura Dykstra (Yale University)\n\n\n10:05-10:55:\nsecond session \n“Storage and Stability”: Isabella Weber (University of Massachusetts\, Amherst)\n\n\n10:55-11:10:\nCoffee Break\n\n\n11:10-12:00:\nthird session \n“The Fiscal State and Public Goods”: Richard von Glahn (UCLA)\n\n\n12:00-1:30 pm:\nLunch Break\n\n\n1:30-2:20:\nfourth session \n“The State in Comparative Perspective”: Timothy Brook (University of British Columbia)\n\n\n2:20-3:10:\nfifth session \n“Symmetry in Comparative Analysis”: Zhang Meng (Vanderbilt University)\n\n\n3:10-3:25:\nCoffee Break\n\n\n3:25-4:15:\nsixth session \n“Theory and Contingency”: Jean-Laurent Rosenthal (California Institute of Technology)
URL:https://history.ucla.edu/event/rewriting-comparative-history-engagement-with-the-work-of-r-bin-wong/
LOCATION:6275 Bunche Hall
END:VEVENT
BEGIN:VEVENT
DTSTART;TZID=America/Los_Angeles:20231120T160000
DTEND;TZID=America/Los_Angeles:20231120T173000
DTSTAMP:20260420T014337
CREATED:20231013T185808Z
LAST-MODIFIED:20231031T224818Z
UID:10264-1700496000-1700501400@history.ucla.edu
SUMMARY:Danielle Carr\, "SPACE/EARTH/BRAIN: The International Brain Research Organization and the Disciplinary Formation of Neuroscience."
DESCRIPTION:This event will be held in person and via Zoom.
URL:https://history.ucla.edu/event/danielle-carr-space-earth-brain-the-international-brain-research-organization-and-the-disciplinary-formation-of-neuroscience/
LOCATION:Bunche 5288 & Zoom
CATEGORIES:History of Science Colloquium
END:VEVENT
BEGIN:VEVENT
DTSTART;TZID=America/Los_Angeles:20231121T140000
DTEND;TZID=America/Los_Angeles:20231121T150000
DTSTAMP:20260420T014337
CREATED:20231116T173936Z
LAST-MODIFIED:20231116T173936Z
UID:11331-1700575200-1700578800@history.ucla.edu
SUMMARY:Understanding The Israel-Gaza Conflict: Causes\, Conduct\, Consequences
DESCRIPTION:
URL:https://history.ucla.edu/event/understanding-the-israel-gaza-conflict-causes-conduct-consequences/
LOCATION:Zoom
ATTACH;FMTTYPE=image/png:https://history.ucla.edu/wp-content/uploads/2023/11/Understanding-the-Israel-Gaza-Conflict-flyer.png
END:VEVENT
BEGIN:VEVENT
DTSTART;TZID=America/Los_Angeles:20231130T120000
DTEND;TZID=America/Los_Angeles:20231130T133000
DTSTAMP:20260420T014337
CREATED:20231013T190004Z
LAST-MODIFIED:20231026T184214Z
UID:10270-1701345600-1701351000@history.ucla.edu
SUMMARY:Justin Dunnavant (UCLA Anthropology) - Denmark Vesey: A Caribbean Revolution in South Carolina
DESCRIPTION:The Atlantic History Colloquium generates innovative scholarship on the relations linking Africa\, Europe and the Americas by investigating the expansion of markets during the slave trade; the production of literary texts and forms of historical memory; the politics of religious dissent and conversion; the growth of colonial science and cartography; Native American ethnogenesis; the rise of abolitionist and Pan-African ideologies; and the dynamics of race\, gender and creolization throughout the Atlantic world. \nPlease visit UCLA Atlantic History for more information and a complete schedule of events in 2023.
URL:https://history.ucla.edu/event/justin-dunnavant-ucla-anthropology-denmark-vesey-a-caribbean-revolution-in-south-carolina/
LOCATION:Bunche 6275 & Zoom
CATEGORIES:Atlantic History Lecture Series
ATTACH;FMTTYPE=image/jpeg:https://history.ucla.edu/wp-content/uploads/2023/10/Atlantic-Talk_Justin-Dunnavant_30Nov2023.jpg
END:VEVENT
END:VCALENDAR